BEGIN:VCALENDAR
VERSION:2.0
PRODID:-//Out Together - ECPv6.15.20//NONSGML v1.0//EN
CALSCALE:GREGORIAN
METHOD:PUBLISH
X-WR-CALNAME:Out Together
X-ORIGINAL-URL:https://outtogether.lgbt
X-WR-CALDESC:Events for Out Together
REFRESH-INTERVAL;VALUE=DURATION:PT1H
X-Robots-Tag:noindex
X-PUBLISHED-TTL:PT1H
BEGIN:VTIMEZONE
TZID:Europe/London
BEGIN:DAYLIGHT
TZOFFSETFROM:+0000
TZOFFSETTO:+0100
TZNAME:BST
DTSTART:20220327T010000
END:DAYLIGHT
BEGIN:STANDARD
TZOFFSETFROM:+0100
TZOFFSETTO:+0000
TZNAME:GMT
DTSTART:20221030T010000
END:STANDARD
BEGIN:DAYLIGHT
TZOFFSETFROM:+0000
TZOFFSETTO:+0100
TZNAME:BST
DTSTART:20230326T010000
END:DAYLIGHT
BEGIN:STANDARD
TZOFFSETFROM:+0100
TZOFFSETTO:+0000
TZNAME:GMT
DTSTART:20231029T010000
END:STANDARD
BEGIN:DAYLIGHT
TZOFFSETFROM:+0000
TZOFFSETTO:+0100
TZNAME:BST
DTSTART:20240331T010000
END:DAYLIGHT
BEGIN:STANDARD
TZOFFSETFROM:+0100
TZOFFSETTO:+0000
TZNAME:GMT
DTSTART:20241027T010000
END:STANDARD
BEGIN:DAYLIGHT
TZOFFSETFROM:+0000
TZOFFSETTO:+0100
TZNAME:BST
DTSTART:20250330T010000
END:DAYLIGHT
BEGIN:STANDARD
TZOFFSETFROM:+0100
TZOFFSETTO:+0000
TZNAME:GMT
DTSTART:20251026T010000
END:STANDARD
END:VTIMEZONE
BEGIN:VEVENT
DTSTART;TZID=Europe/London:20240714T150000
DTEND;TZID=Europe/London:20240714T193000
DTSTAMP:20260423T210704
CREATED:20230623T103743Z
LAST-MODIFIED:20240628T132518Z
UID:1483-1720969200-1720985400@outtogether.lgbt
SUMMARY:Bardsey Garden Charity Fundraiser
DESCRIPTION:Sunday\, July 14th: A Charity Garden Party at Hillbark\,Bardsey from 3.00 to 7.30 \nSummer is upon us so what better way to celebrate than bringing your friends and families to the annual Out Together fundraising garden party. Enjoy peace and tranquillity in the award winning 1 acre garden Hillbark. \nOver the last 18 months our significantly raised profile has helped build strong working relationships with corporate and other professional organisations and individuals who share our goals. We have grown our Leeds beneficiary base and added new social hubs in Kirklees\, Calderdale\, and soon in Airedale/Wharfedale\, increasing the number of members and the activities we provide to them. \nWe are continuing to attract wonderful volunteers but as we grow we need to support them with part time paid workers.  To help raise the necessary finance we invite you to join us at our garden party. We will be providing afternoon tea and cakes\, followed by evening canapés and cocktails. \nFor catering purposes we need to know numbers so RSVP events@outtogether.lgbt
URL:https://outtogether.lgbt/event/bardsey-garden-charity-fundraiser/
LOCATION:Todmorden
ATTACH;FMTTYPE=image/jpeg:https://outtogether.lgbt/wp-content/uploads/2023/06/unnamed-4-e1719581099439.jpg
END:VEVENT
BEGIN:VEVENT
DTSTART;TZID=Europe/London:20231102T103000
DTEND;TZID=Europe/London:20231102T160000
DTSTAMP:20260423T210704
CREATED:20230502T133806Z
LAST-MODIFIED:20231020T110800Z
UID:1420-1698921000-1698940800@outtogether.lgbt
SUMMARY:Buffet Lunch and Entertainment in Hebden Bridge
DESCRIPTION:Join us for Buffet Lunch and entertainment in Hebden Bridge \nThursday 2nd November \nCome and visit this beautiful town\, nestled in the Calder Valley. \nThe land of Last Tango in Halifax\, Happy Valley\, Gentleman Jack and the Crag Coiners. \nWe’ll meet at 10:30am at Leeds Station and travel direct to Hebden Bridge on the Calderdale Line\, which takes under 45 minutes. \n– and you get 50% off rail fares if you have a senior bus pass  \nIt’s a short walk along the river to the Town Hall where we’ll have a buffet lunch provided by Out Together. We’ll be meeting up with the “Out in the Valley” group too and having some fun entertainment. \nAfter lunch we plan to set off back at 3:00pm. \nIf you’re not Leeds based\, simply make your own way there and we’ll meet you at the Town Hall at 12:00pm. \n  \nWe need to have an idea of numbers\, so please email hello@outtogether.lgbt to let us know you are coming along.
URL:https://outtogether.lgbt/event/coffee-crafternoon/
LOCATION:Leeds Train Station
ATTACH;FMTTYPE=image/jpeg:https://outtogether.lgbt/wp-content/uploads/2023/05/Hebden2.jpg
END:VEVENT
END:VCALENDAR