BEGIN:VCALENDAR
VERSION:2.0
PRODID:-//Out Together - ECPv6.15.20//NONSGML v1.0//EN
CALSCALE:GREGORIAN
METHOD:PUBLISH
X-ORIGINAL-URL:https://outtogether.lgbt
X-WR-CALDESC:Events for Out Together
REFRESH-INTERVAL;VALUE=DURATION:PT1H
X-Robots-Tag:noindex
X-PUBLISHED-TTL:PT1H
BEGIN:VTIMEZONE
TZID:Europe/London
BEGIN:DAYLIGHT
TZOFFSETFROM:+0000
TZOFFSETTO:+0100
TZNAME:BST
DTSTART:20250330T010000
END:DAYLIGHT
BEGIN:STANDARD
TZOFFSETFROM:+0100
TZOFFSETTO:+0000
TZNAME:GMT
DTSTART:20251026T010000
END:STANDARD
BEGIN:DAYLIGHT
TZOFFSETFROM:+0000
TZOFFSETTO:+0100
TZNAME:BST
DTSTART:20260329T010000
END:DAYLIGHT
BEGIN:STANDARD
TZOFFSETFROM:+0100
TZOFFSETTO:+0000
TZNAME:GMT
DTSTART:20261025T010000
END:STANDARD
BEGIN:DAYLIGHT
TZOFFSETFROM:+0000
TZOFFSETTO:+0100
TZNAME:BST
DTSTART:20270328T010000
END:DAYLIGHT
BEGIN:STANDARD
TZOFFSETFROM:+0100
TZOFFSETTO:+0000
TZNAME:GMT
DTSTART:20271031T010000
END:STANDARD
END:VTIMEZONE
BEGIN:VEVENT
DTSTART;TZID=Europe/London:20260125T101000
DTEND;TZID=Europe/London:20260125T120000
DTSTAMP:20260423T125620
CREATED:20260125T230508Z
LAST-MODIFIED:20260125T230508Z
UID:3723-1769335800-1769342400@outtogether.lgbt
SUMMARY:te
DESCRIPTION:attest
URL:https://outtogether.lgbt/event/te/
LOCATION:Flamingos Leeds\, Central Arcade\, Leeds\, LS1 6DX\, United Kingdom
CATEGORIES:Leeds,Social
END:VEVENT
BEGIN:VEVENT
DTSTART;TZID=Europe/London:20260127T103000
DTEND;TZID=Europe/London:20260127T120000
DTSTAMP:20260423T125620
CREATED:20230422T101929Z
LAST-MODIFIED:20260123T190408Z
UID:1375-1769509800-1769515200@outtogether.lgbt
SUMMARY:Coffee\, Cake and Chat in Huddersfield
DESCRIPTION:We’re meeting every second and forth Tuesday of the month at Arcade Coffee & Food in Huddersfield for coffee\, cake and chats. Please drop in and join us if you’re about to have good conversation and catch up with like minded friends. \n10:30AM – 12:00PM
URL:https://outtogether.lgbt/event/coffee-cake-and-chat-in-huddersfield-2/
LOCATION:Arcade Coffee & Food\, Byram Arcade\, Huddersfield\, HD1 1ND\, United Kingdom
CATEGORIES:Huddersfield,Social
ATTACH;FMTTYPE=image/png:https://outtogether.lgbt/wp-content/uploads/2022/01/8.png
END:VEVENT
BEGIN:VEVENT
DTSTART;TZID=Europe/London:20260127T110000
DTEND;TZID=Europe/London:20260127T130000
DTSTAMP:20260423T125620
CREATED:20260123T105343Z
LAST-MODIFIED:20260123T190400Z
UID:3551-1769511600-1769518800@outtogether.lgbt
SUMMARY:Digital Inclusion at Hebden Bridge
DESCRIPTION:
URL:https://outtogether.lgbt/event/digital-inclusion-at-hebden-bridge/
LOCATION:The Town Hall\, Hebden Bridge\, St George's St\, Hebden Bridge HX7 7BY
CATEGORIES:Digital Inclusion,Hebden Bridge
ATTACH;FMTTYPE=image/webp:https://outtogether.lgbt/wp-content/uploads/2025/09/20250703_112559-1-scaled.webp
END:VEVENT
BEGIN:VEVENT
DTSTART;TZID=Europe/London:20260127T150000
DTEND;TZID=Europe/London:20260127T170000
DTSTAMP:20260423T125620
CREATED:20260123T120031Z
LAST-MODIFIED:20260123T120031Z
UID:3569-1769526000-1769533200@outtogether.lgbt
SUMMARY:Digital Inclusion at Todmorden
DESCRIPTION:
URL:https://outtogether.lgbt/event/digital-inclusion-at-todmorden/
LOCATION:Todmorden Community College\, Burnley Rd\, Todmorden OL14 7BX
ATTACH;FMTTYPE=image/webp:https://outtogether.lgbt/wp-content/uploads/2025/09/IMG_6508.webp
END:VEVENT
BEGIN:VEVENT
DTSTART;TZID=Europe/London:20260128T103000
DTEND;TZID=Europe/London:20260128T120000
DTSTAMP:20260423T125620
CREATED:20230422T101546Z
LAST-MODIFIED:20260123T181339Z
UID:1369-1769596200-1769601600@outtogether.lgbt
SUMMARY:Coffee\, Cake and Chat in Leeds
DESCRIPTION:We’re meeting every Wednesday at Flamingos in Leeds for coffee\, cake and chats. Please drop in and join us if you’re about to have good conversation and catch up with like minded friends. \n10:30AM – 12:00PM
URL:https://outtogether.lgbt/event/coffee-cake-and-chat-in-leeds/
LOCATION:Flamingos Leeds\, Central Arcade\, Leeds\, LS1 6DX\, United Kingdom
CATEGORIES:Leeds,Social
ATTACH;FMTTYPE=image/png:https://outtogether.lgbt/wp-content/uploads/2022/01/10.png
END:VEVENT
BEGIN:VEVENT
DTSTART;TZID=Europe/London:20260129T103000
DTEND;TZID=Europe/London:20260129T123000
DTSTAMP:20260423T125620
CREATED:20260120T153219Z
LAST-MODIFIED:20260131T164344Z
UID:3505-1769682600-1769689800@outtogether.lgbt
SUMMARY:Digital Inclusion at Bradford
DESCRIPTION:Bradford LGBT Stories \nDo you have a story to tell about LGBT life in Bradford?\nWould you enjoy helping others share theirs?\nAre you keen to develop—or pass on—digital skills along the way? \nOut Together is launching a new digital history project for LGBT History Month and beyond. We’re bringing together people of all ages and backgrounds to celebrate our community\, reduce digital exclusion\, and build meaningful connections across generations. \nParticipants will have the chance to learn (or teach) a range of digital skills\, including taking digital photos\, recording video\, using mapping apps\, and anything else the group wants to explore. Devices will be available for anyone who needs them.
URL:https://outtogether.lgbt/event/digital-inclusion-at-bradford/
LOCATION:City Library Bradford\, Centenary Square\, 9 Aldermanbury\, Bradford
CATEGORIES:Bradford,Digital Inclusion
ATTACH;FMTTYPE=image/jpeg:https://outtogether.lgbt/wp-content/uploads/2025/11/20250703_112559-scaled.webp
END:VEVENT
BEGIN:VEVENT
DTSTART;TZID=Europe/London:20260129T143000
DTEND;TZID=Europe/London:20260129T163000
DTSTAMP:20260423T125620
CREATED:20260120T155635Z
LAST-MODIFIED:20260123T190333Z
UID:3529-1769697000-1769704200@outtogether.lgbt
SUMMARY:Digital Inclusion at Shipley
DESCRIPTION:Bradford LGBT Stories \nDo you have a story to tell about LGBT life in Bradford?\nWould you enjoy helping others share theirs?\nAre you keen to develop—or pass on—digital skills along the way? \nOut Together is launching a new digital history project for LGBT History Month and beyond. We’re bringing together people of all ages and backgrounds to celebrate our community\, reduce digital exclusion\, and build meaningful connections across generations. \nParticipants will have the chance to learn (or teach) a range of digital skills\, including taking digital photos\, recording video\, using mapping apps\, and anything else the group wants to explore. Devices will be available for anyone who needs them.
URL:https://outtogether.lgbt/event/digital-inclusion-at-shipley-6/
LOCATION:Shipley Library\, 2 Well Croft\, BD18 3QH
CATEGORIES:Bradford,Digital Inclusion
ATTACH;FMTTYPE=image/webp:https://outtogether.lgbt/wp-content/uploads/2025/09/20250703_112559-1-scaled.webp
END:VEVENT
BEGIN:VEVENT
DTSTART;TZID=Europe/London:20260201T120000
DTEND;TZID=Europe/London:20260201T140000
DTSTAMP:20260423T125620
CREATED:20230422T101146Z
LAST-MODIFIED:20260123T190324Z
UID:1366-1769947200-1769954400@outtogether.lgbt
SUMMARY:Sunday Lunch at Prezzo
DESCRIPTION:Sunday Lunch at Prezzo \nThe first Sunday of the month at 12:00 pm \nWe will provide £6 per person towards your meal \nEmail hello@outtogether.lgbt to register
URL:https://outtogether.lgbt/event/sunday-lunch/
LOCATION:Prezzo\, The Light\, The Headrow\, Leeds\, LS1 8TL\, United Kingdom
CATEGORIES:Leeds,Social
ATTACH;FMTTYPE=image/jpeg:https://outtogether.lgbt/wp-content/uploads/2023/03/christmas-dinner.jpg
END:VEVENT
BEGIN:VEVENT
DTSTART;TZID=Europe/London:20260201T120000
DTEND;TZID=Europe/London:20260201T140000
DTSTAMP:20260423T125620
CREATED:20260324T164930Z
LAST-MODIFIED:20260324T164930Z
UID:3931-1769947200-1769954400@outtogether.lgbt
SUMMARY:Sunday Lunch at Prezzo Italian Restaurant
DESCRIPTION:Come join us for a delightful afternoon of good food and even better company at Prezzo! Our community lunches are the perfect opportunity to connect with old friends\, make new ones\, and simply enjoy a relaxed Sunday in a warm and welcoming atmosphere. We’re all about fostering connections and building a vibrant\, inclusive space for everyone. \nImagine sharing delicious food\, engaging in lively conversation\, and soaking up the friendly vibes. Whether you’re a long-time member of our LGBTQ+ family or looking to meet new people\, you’ll find a welcoming smile and open arms here. We can’t wait to share a fantastic meal and some wonderful moments with you. See you there!
URL:https://outtogether.lgbt/event/sunday-lunch-at-prezzo-italian-restaurant-5/
LOCATION:Prezzo\, The Light\, The Headrow\, Leeds\, LS1 8TL\, United Kingdom
CATEGORIES:Leeds,Social
END:VEVENT
BEGIN:VEVENT
DTSTART;TZID=Europe/London:20260203T103000
DTEND;TZID=Europe/London:20260203T120000
DTSTAMP:20260423T125620
CREATED:20250521T094207Z
LAST-MODIFIED:20260123T190317Z
UID:2561-1770114600-1770120000@outtogether.lgbt
SUMMARY:Coffee\, Cake and Chat in Bingley
DESCRIPTION:We’re meeting the first Tuesday of the month at The Craft House in Bingley for coffee\, cake and chats. Please drop in and join us if you’re about to have good conversation and catch up with like minded friends. \n10:30AM – 12:00PM
URL:https://outtogether.lgbt/event/coffee-cake-and-chat-in-bingley/
LOCATION:The Craft House\, Main Street\, Bingley\, BD16 2HT
CATEGORIES:Bingley,Social
ATTACH;FMTTYPE=image/webp:https://outtogether.lgbt/wp-content/uploads/2024/12/Out-Together-in-Bingley.webp
END:VEVENT
BEGIN:VEVENT
DTSTART;TZID=Europe/London:20260203T110000
DTEND;TZID=Europe/London:20260203T130000
DTSTAMP:20260423T125620
CREATED:20260123T105451Z
LAST-MODIFIED:20260123T190310Z
UID:3554-1770116400-1770123600@outtogether.lgbt
SUMMARY:Digital Inclusion at Hebden Bridge
DESCRIPTION:
URL:https://outtogether.lgbt/event/digital-inclusion-at-hebden-bridge-2/
LOCATION:The Town Hall\, Hebden Bridge\, St George's St\, Hebden Bridge HX7 7BY
CATEGORIES:Digital Inclusion,Hebden Bridge
ATTACH;FMTTYPE=image/webp:https://outtogether.lgbt/wp-content/uploads/2025/09/20250703_112559-1-scaled.webp
END:VEVENT
BEGIN:VEVENT
DTSTART;TZID=Europe/London:20260203T150000
DTEND;TZID=Europe/London:20260203T170000
DTSTAMP:20260423T125620
CREATED:20260123T120139Z
LAST-MODIFIED:20260123T120139Z
UID:3572-1770130800-1770138000@outtogether.lgbt
SUMMARY:Digital Inclusion at Todmorden
DESCRIPTION:
URL:https://outtogether.lgbt/event/digital-inclusion-at-todmorden-2/
LOCATION:Todmorden Community College\, Burnley Rd\, Todmorden OL14 7BX
ATTACH;FMTTYPE=image/webp:https://outtogether.lgbt/wp-content/uploads/2025/09/IMG_6508.webp
END:VEVENT
BEGIN:VEVENT
DTSTART;TZID=Europe/London:20260204T100000
DTEND;TZID=Europe/London:20260204T120000
DTSTAMP:20260423T125620
CREATED:20260126T001523Z
LAST-MODIFIED:20260126T001523Z
UID:3755-1770199200-1770206400@outtogether.lgbt
SUMMARY:Coffee\, Cake and Chat in Leeds
DESCRIPTION:Brew up some fun and join us for a delightful social gathering! We’re inviting all LGBTQ+ individuals and allies in Leeds to a relaxed morning of connection and conversation.  \nPicture this: the aroma of freshly brewed coffee\, a tempting spread of delicious cakes\, and a warm\, friendly atmosphere perfect for making new friends or catching up with old ones. \nThis is your chance to unwind\, share stories\, and simply enjoy good company in a welcoming and inclusive space. Whether you’re looking to expand your social circle\, find common ground\, or just enjoy a sweet treat and a chat\, everyone is welcome. Come as you are\, and let’s create some wonderful memories together! We can’t wait to see you there. \n10:30AM – 12:00PM @ Flamingos Coffee House
URL:https://outtogether.lgbt/event/coffee-cake-and-chat-in-leeds-32/
LOCATION:Flamingos Leeds\, Central Arcade\, Leeds\, LS1 6DX\, United Kingdom
CATEGORIES:Leeds,Social
END:VEVENT
BEGIN:VEVENT
DTSTART;TZID=Europe/London:20260205T103000
DTEND;TZID=Europe/London:20260205T123000
DTSTAMP:20260423T125620
CREATED:20260120T153732Z
LAST-MODIFIED:20260131T164336Z
UID:3511-1770287400-1770294600@outtogether.lgbt
SUMMARY:Digital Inclusion at Bradford
DESCRIPTION:Bradford LGBT Stories \nDo you have a story to tell about LGBT life in Bradford?\nWould you enjoy helping others share theirs?\nAre you keen to develop—or pass on—digital skills along the way? \nOut Together is launching a new digital history project for LGBT History Month and beyond. We’re bringing together people of all ages and backgrounds to celebrate our community\, reduce digital exclusion\, and build meaningful connections across generations. \nParticipants will have the chance to learn (or teach) a range of digital skills\, including taking digital photos\, recording video\, using mapping apps\, and anything else the group wants to explore. Devices will be available for anyone who needs them.
URL:https://outtogether.lgbt/event/digital-inclusion-at-bradford-2/
LOCATION:City Library Bradford\, Centenary Square\, 9 Aldermanbury\, Bradford
CATEGORIES:Bradford,Digital Inclusion
ATTACH;FMTTYPE=image/webp:https://outtogether.lgbt/wp-content/uploads/2025/09/IMG_6508.webp
END:VEVENT
BEGIN:VEVENT
DTSTART;TZID=Europe/London:20260205T143000
DTEND;TZID=Europe/London:20260205T163000
DTSTAMP:20260423T125620
CREATED:20260120T153818Z
LAST-MODIFIED:20260123T190239Z
UID:3513-1770301800-1770309000@outtogether.lgbt
SUMMARY:Digital Inclusion at Shipley
DESCRIPTION:Bradford LGBT Stories \nDo you have a story to tell about LGBT life in Bradford?\nWould you enjoy helping others share theirs?\nAre you keen to develop—or pass on—digital skills along the way? \nOut Together is launching a new digital history project for LGBT History Month and beyond. We’re bringing together people of all ages and backgrounds to celebrate our community\, reduce digital exclusion\, and build meaningful connections across generations. \nParticipants will have the chance to learn (or teach) a range of digital skills\, including taking digital photos\, recording video\, using mapping apps\, and anything else the group wants to explore. Devices will be available for anyone who needs them.
URL:https://outtogether.lgbt/event/digital-inclusion-at-shipley-2/
LOCATION:Shipley Library\, 2 Well Croft\, BD18 3QH
CATEGORIES:Bradford,Digital Inclusion
ATTACH;FMTTYPE=image/webp:https://outtogether.lgbt/wp-content/uploads/2025/09/IMG_6508.webp
END:VEVENT
BEGIN:VEVENT
DTSTART;TZID=Europe/London:20260210T103000
DTEND;TZID=Europe/London:20260210T120000
DTSTAMP:20260423T125620
CREATED:20260126T151934Z
LAST-MODIFIED:20260126T151934Z
UID:3803-1770719400-1770724800@outtogether.lgbt
SUMMARY:Coffee\, Cake and Chat in Huddersfield
DESCRIPTION:We’re meeting every second and forth Tuesday of the month at Arcade Coffee & Food in Huddersfield for coffee\, cake and chats. Please drop in and join us if you’re about to have good conversation and catch up with like minded friends.  \n10:30AM – 12:00PM
URL:https://outtogether.lgbt/event/coffee-cake-and-chat-in-huddersfield-3/
LOCATION:Arcade Coffee & Food\, Byram Arcade\, Huddersfield\, HD1 1ND\, United Kingdom
CATEGORIES:Huddersfield,Social
END:VEVENT
BEGIN:VEVENT
DTSTART;TZID=Europe/London:20260210T110000
DTEND;TZID=Europe/London:20260210T130000
DTSTAMP:20260423T125620
CREATED:20260123T105602Z
LAST-MODIFIED:20260123T190230Z
UID:3556-1770721200-1770728400@outtogether.lgbt
SUMMARY:Digital Inclusion at Hebden Bridge
DESCRIPTION:
URL:https://outtogether.lgbt/event/digital-inclusion-at-hebden-bridge-3/
LOCATION:The Town Hall\, Hebden Bridge\, St George's St\, Hebden Bridge HX7 7BY
CATEGORIES:Digital Inclusion,Hebden Bridge
ATTACH;FMTTYPE=image/webp:https://outtogether.lgbt/wp-content/uploads/2025/09/20250703_112559-1-scaled.webp
END:VEVENT
BEGIN:VEVENT
DTSTART;TZID=Europe/London:20260210T150000
DTEND;TZID=Europe/London:20260210T170000
DTSTAMP:20260423T125620
CREATED:20260123T120353Z
LAST-MODIFIED:20260123T120353Z
UID:3576-1770735600-1770742800@outtogether.lgbt
SUMMARY:Digital Inclusion at Todmorden
DESCRIPTION:
URL:https://outtogether.lgbt/event/digital-inclusion-at-todmorden-4/
LOCATION:Todmorden Community College\, Burnley Rd\, Todmorden OL14 7BX
ATTACH;FMTTYPE=image/webp:https://outtogether.lgbt/wp-content/uploads/2025/09/IMG_6508.webp
END:VEVENT
BEGIN:VEVENT
DTSTART;TZID=Europe/London:20260211T100000
DTEND;TZID=Europe/London:20260211T120000
DTSTAMP:20260423T125620
CREATED:20260126T001525Z
LAST-MODIFIED:20260126T001525Z
UID:3770-1770804000-1770811200@outtogether.lgbt
SUMMARY:Coffee\, Cake and Chat in Leeds
DESCRIPTION:Brew up some fun and join us for a delightful social gathering! We’re inviting all LGBTQ+ individuals and allies in Leeds to a relaxed morning of connection and conversation.  \nPicture this: the aroma of freshly brewed coffee\, a tempting spread of delicious cakes\, and a warm\, friendly atmosphere perfect for making new friends or catching up with old ones. \nThis is your chance to unwind\, share stories\, and simply enjoy good company in a welcoming and inclusive space. Whether you’re looking to expand your social circle\, find common ground\, or just enjoy a sweet treat and a chat\, everyone is welcome. Come as you are\, and let’s create some wonderful memories together! We can’t wait to see you there. \n10:30AM – 12:00PM @ Flamingos Coffee House
URL:https://outtogether.lgbt/event/coffee-cake-and-chat-in-leeds-47/
LOCATION:Flamingos Leeds\, Central Arcade\, Leeds\, LS1 6DX\, United Kingdom
CATEGORIES:Leeds,Social
END:VEVENT
BEGIN:VEVENT
DTSTART;TZID=Europe/London:20260212T103000
DTEND;TZID=Europe/London:20260212T123000
DTSTAMP:20260423T125620
CREATED:20260120T153940Z
LAST-MODIFIED:20260131T164327Z
UID:3515-1770892200-1770899400@outtogether.lgbt
SUMMARY:Digital Inclusion at Bradford
DESCRIPTION:Bradford LGBT Stories \nDo you have a story to tell about LGBT life in Bradford?\nWould you enjoy helping others share theirs?\nAre you keen to develop—or pass on—digital skills along the way? \nOut Together is launching a new digital history project for LGBT History Month and beyond. We’re bringing together people of all ages and backgrounds to celebrate our community\, reduce digital exclusion\, and build meaningful connections across generations. \nParticipants will have the chance to learn (or teach) a range of digital skills\, including taking digital photos\, recording video\, using mapping apps\, and anything else the group wants to explore. Devices will be available for anyone who needs them.
URL:https://outtogether.lgbt/event/digital-inclusion-at-bradford-3/
LOCATION:City Library Bradford\, Centenary Square\, 9 Aldermanbury\, Bradford
CATEGORIES:Bradford,Digital Inclusion
ATTACH;FMTTYPE=image/webp:https://outtogether.lgbt/wp-content/uploads/2025/09/20250703_112559-1-scaled.webp
END:VEVENT
BEGIN:VEVENT
DTSTART;TZID=Europe/London:20260212T143000
DTEND;TZID=Europe/London:20260212T163000
DTSTAMP:20260423T125620
CREATED:20260120T154046Z
LAST-MODIFIED:20260123T190211Z
UID:3517-1770906600-1770913800@outtogether.lgbt
SUMMARY:Digital Inclusion at Shipley
DESCRIPTION:Bradford LGBT Stories \nDo you have a story to tell about LGBT life in Bradford?\nWould you enjoy helping others share theirs?\nAre you keen to develop—or pass on—digital skills along the way? \nOut Together is launching a new digital history project for LGBT History Month and beyond. We’re bringing together people of all ages and backgrounds to celebrate our community\, reduce digital exclusion\, and build meaningful connections across generations. \nParticipants will have the chance to learn (or teach) a range of digital skills\, including taking digital photos\, recording video\, using mapping apps\, and anything else the group wants to explore. Devices will be available for anyone who needs them.
URL:https://outtogether.lgbt/event/digital-inclusion-at-shipley-3/
LOCATION:Shipley Library\, 2 Well Croft\, BD18 3QH
CATEGORIES:Bradford,Digital Inclusion
ATTACH;FMTTYPE=image/webp:https://outtogether.lgbt/wp-content/uploads/2025/09/20250703_112559-1-scaled.webp
END:VEVENT
BEGIN:VEVENT
DTSTART;TZID=Europe/London:20260213T103000
DTEND;TZID=Europe/London:20260213T123000
DTSTAMP:20260423T125620
CREATED:20260202T130404Z
LAST-MODIFIED:20260202T130726Z
UID:3859-1770978600-1770985800@outtogether.lgbt
SUMMARY:Digital Inclusion at Huddersfield
DESCRIPTION:This 8-week Digital Inclusion programme is designed to support older LGBTQ+ residents in Huddersfield to build confidence and skills in using digital technology. In a friendly\, relaxed\, and inclusive environment\, participants will learn how to use smartphones\, tablets\, and computers for everyday tasks such as staying in touch with loved ones\, accessing online services\, and exploring interests safely online. The sessions are tailored to individual needs\, with patient\, supportive guidance to help everyone feel more connected and empowered in the digital world.
URL:https://outtogether.lgbt/event/digital-inclusion-at-huddersfield/
LOCATION:Huddersfield Mission\, 3-13 Lord Street\, Huddersfield\, HD1 1QA
CATEGORIES:Huddersfield
ATTACH;FMTTYPE=image/png:https://outtogether.lgbt/wp-content/uploads/2023/01/cropped-fav_icon.png
END:VEVENT
BEGIN:VEVENT
DTSTART;TZID=Europe/London:20260217T110000
DTEND;TZID=Europe/London:20260217T130000
DTSTAMP:20260423T125620
CREATED:20260123T105823Z
LAST-MODIFIED:20260123T190201Z
UID:3558-1771326000-1771333200@outtogether.lgbt
SUMMARY:Digital Inclusion at Hebden Bridge
DESCRIPTION:
URL:https://outtogether.lgbt/event/digital-inclusion-at-hebden-bridge-4/
LOCATION:The Town Hall\, Hebden Bridge\, St George's St\, Hebden Bridge HX7 7BY
CATEGORIES:Digital Inclusion,Hebden Bridge
ATTACH;FMTTYPE=image/webp:https://outtogether.lgbt/wp-content/uploads/2025/09/IMG_6508.webp
END:VEVENT
BEGIN:VEVENT
DTSTART;TZID=Europe/London:20260217T150000
DTEND;TZID=Europe/London:20260217T170000
DTSTAMP:20260423T125620
CREATED:20260123T120254Z
LAST-MODIFIED:20260123T120904Z
UID:3574-1771340400-1771347600@outtogether.lgbt
SUMMARY:Digital Inclusion at Todmorden
DESCRIPTION:
URL:https://outtogether.lgbt/event/digital-inclusion-at-todmorden-3/
LOCATION:Todmorden Community College\, Burnley Rd\, Todmorden OL14 7BX
ATTACH;FMTTYPE=image/webp:https://outtogether.lgbt/wp-content/uploads/2025/09/IMG_6508.webp
END:VEVENT
BEGIN:VEVENT
DTSTART;TZID=Europe/London:20260218T100000
DTEND;TZID=Europe/London:20260218T120000
DTSTAMP:20260423T125620
CREATED:20260126T001524Z
LAST-MODIFIED:20260126T001524Z
UID:3764-1771408800-1771416000@outtogether.lgbt
SUMMARY:Coffee\, Cake and Chat in Leeds
DESCRIPTION:Brew up some fun and join us for a delightful social gathering! We’re inviting all LGBTQ+ individuals and allies in Leeds to a relaxed morning of connection and conversation.  \nPicture this: the aroma of freshly brewed coffee\, a tempting spread of delicious cakes\, and a warm\, friendly atmosphere perfect for making new friends or catching up with old ones. \nThis is your chance to unwind\, share stories\, and simply enjoy good company in a welcoming and inclusive space. Whether you’re looking to expand your social circle\, find common ground\, or just enjoy a sweet treat and a chat\, everyone is welcome. Come as you are\, and let’s create some wonderful memories together! We can’t wait to see you there. \n10:30AM – 12:00PM @ Flamingos Coffee House
URL:https://outtogether.lgbt/event/coffee-cake-and-chat-in-leeds-41/
LOCATION:Flamingos Leeds\, Central Arcade\, Leeds\, LS1 6DX\, United Kingdom
CATEGORIES:Leeds,Social
END:VEVENT
BEGIN:VEVENT
DTSTART;TZID=Europe/London:20260218T123000
DTEND;TZID=Europe/London:20260218T140000
DTSTAMP:20260423T125620
CREATED:20260127T163232Z
LAST-MODIFIED:20260414T104953Z
UID:3787-1771417800-1771423200@outtogether.lgbt
SUMMARY:Coffee\, Cake and Chat in Hebden Bridge
DESCRIPTION:We’re meeting every third Wednesday of the month at The Hermit in Hebden Bridge for coffee\, cake and chats. Please drop in and join us if you’re about to have good conversation and catch up with like minded friends. \n12:30 – 2:00
URL:https://outtogether.lgbt/event/coffee-cake-and-chat-in-hebden-bridge-2/
LOCATION:The Hermit\, Hope Street\, Hebden Bridge\, HX7 8AG
CATEGORIES:Hebden Bridge,Social
END:VEVENT
BEGIN:VEVENT
DTSTART;TZID=Europe/London:20260219T103000
DTEND;TZID=Europe/London:20260219T123000
DTSTAMP:20260423T125620
CREATED:20260120T154521Z
LAST-MODIFIED:20260131T164319Z
UID:3519-1771497000-1771504200@outtogether.lgbt
SUMMARY:Digital Inclusion at Bradford
DESCRIPTION:Bradford LGBT Stories \nDo you have a story to tell about LGBT life in Bradford?\nWould you enjoy helping others share theirs?\nAre you keen to develop—or pass on—digital skills along the way? \nOut Together is launching a new digital history project for LGBT History Month and beyond. We’re bringing together people of all ages and backgrounds to celebrate our community\, reduce digital exclusion\, and build meaningful connections across generations. \nParticipants will have the chance to learn (or teach) a range of digital skills\, including taking digital photos\, recording video\, using mapping apps\, and anything else the group wants to explore. Devices will be available for anyone who needs them.
URL:https://outtogether.lgbt/event/digital-inclusion-at-bradford-4/
LOCATION:City Library Bradford\, Centenary Square\, 9 Aldermanbury\, Bradford
CATEGORIES:Bradford,Digital Inclusion
ATTACH;FMTTYPE=image/webp:https://outtogether.lgbt/wp-content/uploads/2025/09/IMG_6508.webp
END:VEVENT
BEGIN:VEVENT
DTSTART;TZID=Europe/London:20260219T110000
DTEND;TZID=Europe/London:20260219T130000
DTSTAMP:20260423T125620
CREATED:20260120T160420Z
LAST-MODIFIED:20260123T190154Z
UID:3543-1771498800-1771506000@outtogether.lgbt
SUMMARY:Digital Inclusion Leeds
DESCRIPTION:
URL:https://outtogether.lgbt/event/digital-inclusion-leeds-3/
LOCATION:Leeds Playhouse\, Playhouse Square\, Quarry Hill\, Leeds\, LS27UP\, United Kingdom
CATEGORIES:Digital Inclusion,Leeds
ATTACH;FMTTYPE=image/webp:https://outtogether.lgbt/wp-content/uploads/2025/09/20250703_112559-1-scaled.webp
END:VEVENT
BEGIN:VEVENT
DTSTART;TZID=Europe/London:20260219T143000
DTEND;TZID=Europe/London:20260219T163000
DTSTAMP:20260423T125621
CREATED:20260120T153546Z
LAST-MODIFIED:20260123T190138Z
UID:3508-1771511400-1771518600@outtogether.lgbt
SUMMARY:Digital Inclusion at Shipley
DESCRIPTION:Bradford LGBT Stories \nDo you have a story to tell about LGBT life in Bradford?\nWould you enjoy helping others share theirs?\nAre you keen to develop—or pass on—digital skills along the way? \nOut Together is launching a new digital history project for LGBT History Month and beyond. We’re bringing together people of all ages and backgrounds to celebrate our community\, reduce digital exclusion\, and build meaningful connections across generations. \nParticipants will have the chance to learn (or teach) a range of digital skills\, including taking digital photos\, recording video\, using mapping apps\, and anything else the group wants to explore. Devices will be available for anyone who needs them.
URL:https://outtogether.lgbt/event/digital-inclusion-at-shipley/
LOCATION:Shipley Library\, 2 Well Croft\, BD18 3QH
CATEGORIES:Bradford,Digital Inclusion
ATTACH;FMTTYPE=image/webp:https://outtogether.lgbt/wp-content/uploads/2025/09/20250703_112559-1-scaled.webp
END:VEVENT
BEGIN:VEVENT
DTSTART;TZID=Europe/London:20260220T103000
DTEND;TZID=Europe/London:20260220T123000
DTSTAMP:20260423T125621
CREATED:20260202T130642Z
LAST-MODIFIED:20260202T130642Z
UID:3862-1771583400-1771590600@outtogether.lgbt
SUMMARY:Digital Inclusion at Huddersfield
DESCRIPTION:This 8-week Digital Inclusion programme is designed to support older LGBTQ+ residents in Huddersfield to build confidence and skills in using digital technology. In a friendly\, relaxed\, and inclusive environment\, participants will learn how to use smartphones\, tablets\, and computers for everyday tasks such as staying in touch with loved ones\, accessing online services\, and exploring interests safely online. The sessions are tailored to individual needs\, with patient\, supportive guidance to help everyone feel more connected and empowered in the digital world.
URL:https://outtogether.lgbt/event/digital-inclusion-at-huddersfield-2/
LOCATION:Huddersfield Mission\, 3-13 Lord Street\, Huddersfield\, HD1 1QA
CATEGORIES:Huddersfield
END:VEVENT
END:VCALENDAR