BEGIN:VCALENDAR
VERSION:2.0
PRODID:-//Out Together - ECPv6.15.20//NONSGML v1.0//EN
CALSCALE:GREGORIAN
METHOD:PUBLISH
X-WR-CALNAME:Out Together
X-ORIGINAL-URL:https://outtogether.lgbt
X-WR-CALDESC:Events for Out Together
REFRESH-INTERVAL;VALUE=DURATION:PT1H
X-Robots-Tag:noindex
X-PUBLISHED-TTL:PT1H
BEGIN:VTIMEZONE
TZID:Europe/London
BEGIN:DAYLIGHT
TZOFFSETFROM:+0000
TZOFFSETTO:+0100
TZNAME:BST
DTSTART:20250330T010000
END:DAYLIGHT
BEGIN:STANDARD
TZOFFSETFROM:+0100
TZOFFSETTO:+0000
TZNAME:GMT
DTSTART:20251026T010000
END:STANDARD
BEGIN:DAYLIGHT
TZOFFSETFROM:+0000
TZOFFSETTO:+0100
TZNAME:BST
DTSTART:20260329T010000
END:DAYLIGHT
BEGIN:STANDARD
TZOFFSETFROM:+0100
TZOFFSETTO:+0000
TZNAME:GMT
DTSTART:20261025T010000
END:STANDARD
BEGIN:DAYLIGHT
TZOFFSETFROM:+0000
TZOFFSETTO:+0100
TZNAME:BST
DTSTART:20270328T010000
END:DAYLIGHT
BEGIN:STANDARD
TZOFFSETFROM:+0100
TZOFFSETTO:+0000
TZNAME:GMT
DTSTART:20271031T010000
END:STANDARD
END:VTIMEZONE
BEGIN:VEVENT
DTSTART;TZID=Europe/London:20260424T100000
DTEND;TZID=Europe/London:20260424T113000
DTSTAMP:20260423T015631
CREATED:20260219T112731Z
LAST-MODIFIED:20260219T112731Z
UID:3900-1777024800-1777030200@outtogether.lgbt
SUMMARY:Coffee\, Cake and Chat in Todmorden
DESCRIPTION:Come join us for a delightful and relaxed get-together in the heart of Todmorden! This is a fantastic opportunity to connect with fellow LGBTQ+ community members in a warm and friendly atmosphere.
URL:https://outtogether.lgbt/event/coffee-cake-and-chat-in-todmorden-5/
LOCATION:Todmorden Health Centre\, The Rear G/F Café\, Todmorden\, OL14 5RN
CATEGORIES:Social
END:VEVENT
BEGIN:VEVENT
DTSTART;TZID=Europe/London:20260428T103000
DTEND;TZID=Europe/London:20260428T120000
DTSTAMP:20260423T015631
CREATED:20260126T151936Z
LAST-MODIFIED:20260126T151936Z
UID:3814-1777372200-1777377600@outtogether.lgbt
SUMMARY:Coffee\, Cake and Chat in Huddersfield
DESCRIPTION:We’re meeting every second and forth Tuesday of the month at Arcade Coffee & Food in Huddersfield for coffee\, cake and chats. Please drop in and join us if you’re about to have good conversation and catch up with like minded friends.  \n10:30AM – 12:00PM
URL:https://outtogether.lgbt/event/coffee-cake-and-chat-in-huddersfield-14/
LOCATION:Arcade Coffee & Food\, Byram Arcade\, Huddersfield\, HD1 1ND\, United Kingdom
CATEGORIES:Huddersfield,Social
END:VEVENT
BEGIN:VEVENT
DTSTART;TZID=Europe/London:20260429T100000
DTEND;TZID=Europe/London:20260429T120000
DTSTAMP:20260423T015631
CREATED:20260126T001517Z
LAST-MODIFIED:20260126T001517Z
UID:3739-1777456800-1777464000@outtogether.lgbt
SUMMARY:Coffee\, Cake and Chat in Leeds
DESCRIPTION:Brew up some fun and join us for a delightful social gathering! We’re inviting all LGBTQ+ individuals and allies in Leeds to a relaxed morning of connection and conversation.  \nPicture this: the aroma of freshly brewed coffee\, a tempting spread of delicious cakes\, and a warm\, friendly atmosphere perfect for making new friends or catching up with old ones. \nThis is your chance to unwind\, share stories\, and simply enjoy good company in a welcoming and inclusive space. Whether you’re looking to expand your social circle\, find common ground\, or just enjoy a sweet treat and a chat\, everyone is welcome. Come as you are\, and let’s create some wonderful memories together! We can’t wait to see you there. \n10:30AM – 12:00PM @ Flamingos Coffee House
URL:https://outtogether.lgbt/event/coffee-cake-and-chat-in-leeds-18/
LOCATION:Flamingos Leeds\, Central Arcade\, Leeds\, LS1 6DX\, United Kingdom
CATEGORIES:Leeds,Social
END:VEVENT
END:VCALENDAR