BEGIN:VCALENDAR
VERSION:2.0
PRODID:-//Out Together - ECPv6.15.20//NONSGML v1.0//EN
CALSCALE:GREGORIAN
METHOD:PUBLISH
X-ORIGINAL-URL:https://outtogether.lgbt
X-WR-CALDESC:Events for Out Together
REFRESH-INTERVAL;VALUE=DURATION:PT1H
X-Robots-Tag:noindex
X-PUBLISHED-TTL:PT1H
BEGIN:VTIMEZONE
TZID:Europe/London
BEGIN:DAYLIGHT
TZOFFSETFROM:+0000
TZOFFSETTO:+0100
TZNAME:BST
DTSTART:20250330T010000
END:DAYLIGHT
BEGIN:STANDARD
TZOFFSETFROM:+0100
TZOFFSETTO:+0000
TZNAME:GMT
DTSTART:20251026T010000
END:STANDARD
BEGIN:DAYLIGHT
TZOFFSETFROM:+0000
TZOFFSETTO:+0100
TZNAME:BST
DTSTART:20260329T010000
END:DAYLIGHT
BEGIN:STANDARD
TZOFFSETFROM:+0100
TZOFFSETTO:+0000
TZNAME:GMT
DTSTART:20261025T010000
END:STANDARD
BEGIN:DAYLIGHT
TZOFFSETFROM:+0000
TZOFFSETTO:+0100
TZNAME:BST
DTSTART:20270328T010000
END:DAYLIGHT
BEGIN:STANDARD
TZOFFSETFROM:+0100
TZOFFSETTO:+0000
TZNAME:GMT
DTSTART:20271031T010000
END:STANDARD
END:VTIMEZONE
BEGIN:VEVENT
DTSTART;TZID=Europe/London:20260503T120000
DTEND;TZID=Europe/London:20260503T140000
DTSTAMP:20260423T033118
CREATED:20260324T164312Z
LAST-MODIFIED:20260324T164312Z
UID:3921-1777809600-1777816800@outtogether.lgbt
SUMMARY:Sunday lunch at the Adelphi
DESCRIPTION:Come join us for a delightful afternoon of good food and even better company at the Adelphi! Our community lunches are the perfect opportunity to connect with old friends\, make new ones\, and simply enjoy a relaxed Sunday in a warm and welcoming atmosphere. We’re all about fostering connections and building a vibrant\, inclusive space for everyone. \nImagine sharing delicious food\, engaging in lively conversation\, and soaking up the friendly vibes. Whether you’re a long-time member of our LGBTQ+ family or looking to meet new people\, you’ll find a welcoming smile and open arms here. We can’t wait to share a fantastic meal and some wonderful moments with you. See you there!
URL:https://outtogether.lgbt/event/sunday-lunch-at-the-adelphi/
LOCATION:The Adelphi\, 1-2 Hunslet Road\, Leeds\, LS10 1JQ\, United Kingdom
CATEGORIES:Leeds,Social
END:VEVENT
BEGIN:VEVENT
DTSTART;TZID=Europe/London:20260505T103000
DTEND;TZID=Europe/London:20260505T120000
DTSTAMP:20260423T033118
CREATED:20260126T152628Z
LAST-MODIFIED:20260126T152628Z
UID:3826-1777977000-1777982400@outtogether.lgbt
SUMMARY:Coffee\, Cake and Chat in Bingley
DESCRIPTION:We’re meeting the first Tuesday of the month at The Craft House in Bingley for coffee\, cake and chats. Please drop in and join us if you’re about to have good conversation and catch up with like minded friends.  \n10:30AM – 12:00PM
URL:https://outtogether.lgbt/event/coffee-cake-and-chat-in-bingley-3/
LOCATION:The Craft House\, Main Street\, Bingley\, BD16 2HT
CATEGORIES:Bingley,Social
END:VEVENT
BEGIN:VEVENT
DTSTART;TZID=Europe/London:20260506T100000
DTEND;TZID=Europe/London:20260506T120000
DTSTAMP:20260423T033118
CREATED:20260126T001527Z
LAST-MODIFIED:20260126T001527Z
UID:3774-1778061600-1778068800@outtogether.lgbt
SUMMARY:Coffee\, Cake and Chat in Leeds
DESCRIPTION:Brew up some fun and join us for a delightful social gathering! We’re inviting all LGBTQ+ individuals and allies in Leeds to a relaxed morning of connection and conversation.  \nPicture this: the aroma of freshly brewed coffee\, a tempting spread of delicious cakes\, and a warm\, friendly atmosphere perfect for making new friends or catching up with old ones. \nThis is your chance to unwind\, share stories\, and simply enjoy good company in a welcoming and inclusive space. Whether you’re looking to expand your social circle\, find common ground\, or just enjoy a sweet treat and a chat\, everyone is welcome. Come as you are\, and let’s create some wonderful memories together! We can’t wait to see you there. \n10:30AM – 12:00PM @ Flamingos Coffee House
URL:https://outtogether.lgbt/event/coffee-cake-and-chat-in-leeds-51/
LOCATION:Flamingos Leeds\, Central Arcade\, Leeds\, LS1 6DX\, United Kingdom
CATEGORIES:Leeds,Social
END:VEVENT
BEGIN:VEVENT
DTSTART;TZID=Europe/London:20260508T100000
DTEND;TZID=Europe/London:20260508T113000
DTSTAMP:20260423T033118
CREATED:20260219T112739Z
LAST-MODIFIED:20260219T112739Z
UID:3901-1778234400-1778239800@outtogether.lgbt
SUMMARY:Coffee\, Cake and Chat in Todmorden
DESCRIPTION:Come join us for a delightful and relaxed get-together in the heart of Todmorden! This is a fantastic opportunity to connect with fellow LGBTQ+ community members in a warm and friendly atmosphere.
URL:https://outtogether.lgbt/event/coffee-cake-and-chat-in-todmorden-6/
LOCATION:Todmorden Health Centre\, The Rear G/F Café\, Todmorden\, OL14 5RN
CATEGORIES:Social
END:VEVENT
BEGIN:VEVENT
DTSTART;TZID=Europe/London:20260512T103000
DTEND;TZID=Europe/London:20260512T120000
DTSTAMP:20260423T033118
CREATED:20260126T151937Z
LAST-MODIFIED:20260126T151937Z
UID:3818-1778581800-1778587200@outtogether.lgbt
SUMMARY:Coffee\, Cake and Chat in Huddersfield
DESCRIPTION:We’re meeting every second and forth Tuesday of the month at Arcade Coffee & Food in Huddersfield for coffee\, cake and chats. Please drop in and join us if you’re about to have good conversation and catch up with like minded friends.  \n10:30AM – 12:00PM
URL:https://outtogether.lgbt/event/coffee-cake-and-chat-in-huddersfield-17/
LOCATION:Arcade Coffee & Food\, Byram Arcade\, Huddersfield\, HD1 1ND\, United Kingdom
CATEGORIES:Huddersfield,Social
END:VEVENT
BEGIN:VEVENT
DTSTART;TZID=Europe/London:20260513T100000
DTEND;TZID=Europe/London:20260513T120000
DTSTAMP:20260423T033118
CREATED:20260126T001523Z
LAST-MODIFIED:20260126T001523Z
UID:3760-1778666400-1778673600@outtogether.lgbt
SUMMARY:Coffee\, Cake and Chat in Leeds
DESCRIPTION:Brew up some fun and join us for a delightful social gathering! We’re inviting all LGBTQ+ individuals and allies in Leeds to a relaxed morning of connection and conversation.  \nPicture this: the aroma of freshly brewed coffee\, a tempting spread of delicious cakes\, and a warm\, friendly atmosphere perfect for making new friends or catching up with old ones. \nThis is your chance to unwind\, share stories\, and simply enjoy good company in a welcoming and inclusive space. Whether you’re looking to expand your social circle\, find common ground\, or just enjoy a sweet treat and a chat\, everyone is welcome. Come as you are\, and let’s create some wonderful memories together! We can’t wait to see you there. \n10:30AM – 12:00PM @ Flamingos Coffee House
URL:https://outtogether.lgbt/event/coffee-cake-and-chat-in-leeds-37/
LOCATION:Flamingos Leeds\, Central Arcade\, Leeds\, LS1 6DX\, United Kingdom
CATEGORIES:Leeds,Social
END:VEVENT
BEGIN:VEVENT
DTSTART;TZID=Europe/London:20260520T100000
DTEND;TZID=Europe/London:20260520T120000
DTSTAMP:20260423T033118
CREATED:20260126T001515Z
LAST-MODIFIED:20260126T001515Z
UID:3726-1779271200-1779278400@outtogether.lgbt
SUMMARY:Coffee\, Cake and Chat in Leeds
DESCRIPTION:Brew up some fun and join us for a delightful social gathering! We’re inviting all LGBTQ+ individuals and allies in Leeds to a relaxed morning of connection and conversation.  \nPicture this: the aroma of freshly brewed coffee\, a tempting spread of delicious cakes\, and a warm\, friendly atmosphere perfect for making new friends or catching up with old ones. \nThis is your chance to unwind\, share stories\, and simply enjoy good company in a welcoming and inclusive space. Whether you’re looking to expand your social circle\, find common ground\, or just enjoy a sweet treat and a chat\, everyone is welcome. Come as you are\, and let’s create some wonderful memories together! We can’t wait to see you there. \n10:30AM – 12:00PM @ Flamingos Coffee House
URL:https://outtogether.lgbt/event/coffee-cake-and-chat-in-leeds-6/
LOCATION:Flamingos Leeds\, Central Arcade\, Leeds\, LS1 6DX\, United Kingdom
CATEGORIES:Leeds,Social
END:VEVENT
BEGIN:VEVENT
DTSTART;TZID=Europe/London:20260520T123000
DTEND;TZID=Europe/London:20260520T140000
DTSTAMP:20260423T033118
CREATED:20260127T163243Z
LAST-MODIFIED:20260414T104928Z
UID:3791-1779280200-1779285600@outtogether.lgbt
SUMMARY:Coffee\, Cake and Chat in Hebden Bridge
DESCRIPTION:We’re meeting every third Tuesday of the month at The Hermit in Hebden Bridge for coffee\, cake and chats. Please drop in and join us if you’re about to have good conversation and catch up with like minded friends. \n10:30AM – 12:00PM
URL:https://outtogether.lgbt/event/coffee-cake-and-chat-in-hebden-bridge-5/
LOCATION:The Hermit\, Hope Street\, Hebden Bridge\, HX7 8AG
CATEGORIES:Hebden Bridge,Social
END:VEVENT
BEGIN:VEVENT
DTSTART;TZID=Europe/London:20260522T100000
DTEND;TZID=Europe/London:20260522T113000
DTSTAMP:20260423T033118
CREATED:20260219T112747Z
LAST-MODIFIED:20260219T112747Z
UID:3902-1779444000-1779449400@outtogether.lgbt
SUMMARY:Coffee\, Cake and Chat in Todmorden
DESCRIPTION:Come join us for a delightful and relaxed get-together in the heart of Todmorden! This is a fantastic opportunity to connect with fellow LGBTQ+ community members in a warm and friendly atmosphere.
URL:https://outtogether.lgbt/event/coffee-cake-and-chat-in-todmorden-7/
LOCATION:Todmorden Health Centre\, The Rear G/F Café\, Todmorden\, OL14 5RN
CATEGORIES:Social
END:VEVENT
BEGIN:VEVENT
DTSTART;TZID=Europe/London:20260526T103000
DTEND;TZID=Europe/London:20260526T120000
DTSTAMP:20260423T033118
CREATED:20260126T151935Z
LAST-MODIFIED:20260126T151935Z
UID:3806-1779791400-1779796800@outtogether.lgbt
SUMMARY:Coffee\, Cake and Chat in Huddersfield
DESCRIPTION:We’re meeting every second and forth Tuesday of the month at Arcade Coffee & Food in Huddersfield for coffee\, cake and chats. Please drop in and join us if you’re about to have good conversation and catch up with like minded friends.  \n10:30AM – 12:00PM
URL:https://outtogether.lgbt/event/coffee-cake-and-chat-in-huddersfield-6/
LOCATION:Arcade Coffee & Food\, Byram Arcade\, Huddersfield\, HD1 1ND\, United Kingdom
CATEGORIES:Huddersfield,Social
END:VEVENT
BEGIN:VEVENT
DTSTART;TZID=Europe/London:20260527T100000
DTEND;TZID=Europe/London:20260527T120000
DTSTAMP:20260423T033118
CREATED:20260126T001517Z
LAST-MODIFIED:20260126T001517Z
UID:3743-1779876000-1779883200@outtogether.lgbt
SUMMARY:Coffee\, Cake and Chat in Leeds
DESCRIPTION:Brew up some fun and join us for a delightful social gathering! We’re inviting all LGBTQ+ individuals and allies in Leeds to a relaxed morning of connection and conversation.  \nPicture this: the aroma of freshly brewed coffee\, a tempting spread of delicious cakes\, and a warm\, friendly atmosphere perfect for making new friends or catching up with old ones. \nThis is your chance to unwind\, share stories\, and simply enjoy good company in a welcoming and inclusive space. Whether you’re looking to expand your social circle\, find common ground\, or just enjoy a sweet treat and a chat\, everyone is welcome. Come as you are\, and let’s create some wonderful memories together! We can’t wait to see you there. \n10:30AM – 12:00PM @ Flamingos Coffee House
URL:https://outtogether.lgbt/event/coffee-cake-and-chat-in-leeds-21/
LOCATION:Flamingos Leeds\, Central Arcade\, Leeds\, LS1 6DX\, United Kingdom
CATEGORIES:Leeds,Social
END:VEVENT
END:VCALENDAR