BEGIN:VCALENDAR
VERSION:2.0
PRODID:-//Out Together - ECPv6.15.20//NONSGML v1.0//EN
CALSCALE:GREGORIAN
METHOD:PUBLISH
X-WR-CALNAME:Out Together
X-ORIGINAL-URL:https://outtogether.lgbt
X-WR-CALDESC:Events for Out Together
REFRESH-INTERVAL;VALUE=DURATION:PT1H
X-Robots-Tag:noindex
X-PUBLISHED-TTL:PT1H
BEGIN:VTIMEZONE
TZID:Europe/London
BEGIN:DAYLIGHT
TZOFFSETFROM:+0000
TZOFFSETTO:+0100
TZNAME:BST
DTSTART:20250330T010000
END:DAYLIGHT
BEGIN:STANDARD
TZOFFSETFROM:+0100
TZOFFSETTO:+0000
TZNAME:GMT
DTSTART:20251026T010000
END:STANDARD
BEGIN:DAYLIGHT
TZOFFSETFROM:+0000
TZOFFSETTO:+0100
TZNAME:BST
DTSTART:20260329T010000
END:DAYLIGHT
BEGIN:STANDARD
TZOFFSETFROM:+0100
TZOFFSETTO:+0000
TZNAME:GMT
DTSTART:20261025T010000
END:STANDARD
BEGIN:DAYLIGHT
TZOFFSETFROM:+0000
TZOFFSETTO:+0100
TZNAME:BST
DTSTART:20270328T010000
END:DAYLIGHT
BEGIN:STANDARD
TZOFFSETFROM:+0100
TZOFFSETTO:+0000
TZNAME:GMT
DTSTART:20271031T010000
END:STANDARD
END:VTIMEZONE
BEGIN:VEVENT
DTSTART;TZID=Europe/London:20260614T090000
DTEND;TZID=Europe/London:20260614T130000
DTSTAMP:20260423T105524
CREATED:20260126T094431Z
LAST-MODIFIED:20260126T094431Z
UID:3776-1781427600-1781442000@outtogether.lgbt
SUMMARY:Leeds 10K
DESCRIPTION:Lace up your trainers and join us for an empowering 10K through the heart of Leeds!  \nEvery stride you take will help raise vital funds\, directly supporting initiatives that uplift and empower LGBTQ+ individuals right here in Leeds. Whether you’re a seasoned runner or looking for a fun challenge\, this event is for everyone. Let’s hit the streets and create lasting memories while supporting an amazing cause. We can’t wait to see you there!
URL:https://outtogether.lgbt/event/leeds-10k/
LOCATION:Leeds City Centre
CATEGORIES:Leeds
END:VEVENT
END:VCALENDAR