BEGIN:VCALENDAR
VERSION:2.0
PRODID:-//Out Together - ECPv6.15.20//NONSGML v1.0//EN
CALSCALE:GREGORIAN
METHOD:PUBLISH
X-WR-CALNAME:Out Together
X-ORIGINAL-URL:https://outtogether.lgbt
X-WR-CALDESC:Events for Out Together
REFRESH-INTERVAL;VALUE=DURATION:PT1H
X-Robots-Tag:noindex
X-PUBLISHED-TTL:PT1H
BEGIN:VTIMEZONE
TZID:Europe/London
BEGIN:DAYLIGHT
TZOFFSETFROM:+0000
TZOFFSETTO:+0100
TZNAME:BST
DTSTART:20250330T010000
END:DAYLIGHT
BEGIN:STANDARD
TZOFFSETFROM:+0100
TZOFFSETTO:+0000
TZNAME:GMT
DTSTART:20251026T010000
END:STANDARD
BEGIN:DAYLIGHT
TZOFFSETFROM:+0000
TZOFFSETTO:+0100
TZNAME:BST
DTSTART:20260329T010000
END:DAYLIGHT
BEGIN:STANDARD
TZOFFSETFROM:+0100
TZOFFSETTO:+0000
TZNAME:GMT
DTSTART:20261025T010000
END:STANDARD
BEGIN:DAYLIGHT
TZOFFSETFROM:+0000
TZOFFSETTO:+0100
TZNAME:BST
DTSTART:20270328T010000
END:DAYLIGHT
BEGIN:STANDARD
TZOFFSETFROM:+0100
TZOFFSETTO:+0000
TZNAME:GMT
DTSTART:20271031T010000
END:STANDARD
END:VTIMEZONE
BEGIN:VEVENT
DTSTART;TZID=Europe/London:20260422T100000
DTEND;TZID=Europe/London:20260422T120000
DTSTAMP:20260423T033102
CREATED:20260126T001514Z
LAST-MODIFIED:20260126T001514Z
UID:3725-1776852000-1776859200@outtogether.lgbt
SUMMARY:Coffee\, Cake and Chat in Leeds
DESCRIPTION:Brew up some fun and join us for a delightful social gathering! We’re inviting all LGBTQ+ individuals and allies in Leeds to a relaxed morning of connection and conversation.  \nPicture this: the aroma of freshly brewed coffee\, a tempting spread of delicious cakes\, and a warm\, friendly atmosphere perfect for making new friends or catching up with old ones. \nThis is your chance to unwind\, share stories\, and simply enjoy good company in a welcoming and inclusive space. Whether you’re looking to expand your social circle\, find common ground\, or just enjoy a sweet treat and a chat\, everyone is welcome. Come as you are\, and let’s create some wonderful memories together! We can’t wait to see you there. \n10:30AM – 12:00PM @ Flamingos Coffee House
URL:https://outtogether.lgbt/event/coffee-cake-and-chat-in-leeds-5/
LOCATION:Flamingos Leeds\, Central Arcade\, Leeds\, LS1 6DX\, United Kingdom
CATEGORIES:Leeds,Social
END:VEVENT
END:VCALENDAR