BEGIN:VCALENDAR
VERSION:2.0
PRODID:-//Out Together - ECPv6.15.20//NONSGML v1.0//EN
CALSCALE:GREGORIAN
METHOD:PUBLISH
X-WR-CALNAME:Out Together
X-ORIGINAL-URL:https://outtogether.lgbt
X-WR-CALDESC:Events for Out Together
REFRESH-INTERVAL;VALUE=DURATION:PT1H
X-Robots-Tag:noindex
X-PUBLISHED-TTL:PT1H
BEGIN:VTIMEZONE
TZID:Europe/London
BEGIN:DAYLIGHT
TZOFFSETFROM:+0000
TZOFFSETTO:+0100
TZNAME:BST
DTSTART:20250330T010000
END:DAYLIGHT
BEGIN:STANDARD
TZOFFSETFROM:+0100
TZOFFSETTO:+0000
TZNAME:GMT
DTSTART:20251026T010000
END:STANDARD
BEGIN:DAYLIGHT
TZOFFSETFROM:+0000
TZOFFSETTO:+0100
TZNAME:BST
DTSTART:20260329T010000
END:DAYLIGHT
BEGIN:STANDARD
TZOFFSETFROM:+0100
TZOFFSETTO:+0000
TZNAME:GMT
DTSTART:20261025T010000
END:STANDARD
BEGIN:DAYLIGHT
TZOFFSETFROM:+0000
TZOFFSETTO:+0100
TZNAME:BST
DTSTART:20270328T010000
END:DAYLIGHT
BEGIN:STANDARD
TZOFFSETFROM:+0100
TZOFFSETTO:+0000
TZNAME:GMT
DTSTART:20271031T010000
END:STANDARD
END:VTIMEZONE
BEGIN:VEVENT
DTSTART;TZID=Europe/London:20260701T100000
DTEND;TZID=Europe/London:20260701T120000
DTSTAMP:20260423T063732
CREATED:20260126T001518Z
LAST-MODIFIED:20260126T001518Z
UID:3748-1782900000-1782907200@outtogether.lgbt
SUMMARY:Coffee\, Cake and Chat in Leeds
DESCRIPTION:Brew up some fun and join us for a delightful social gathering! We’re inviting all LGBTQ+ individuals and allies in Leeds to a relaxed morning of connection and conversation.  \nPicture this: the aroma of freshly brewed coffee\, a tempting spread of delicious cakes\, and a warm\, friendly atmosphere perfect for making new friends or catching up with old ones. \nThis is your chance to unwind\, share stories\, and simply enjoy good company in a welcoming and inclusive space. Whether you’re looking to expand your social circle\, find common ground\, or just enjoy a sweet treat and a chat\, everyone is welcome. Come as you are\, and let’s create some wonderful memories together! We can’t wait to see you there. \n10:30AM – 12:00PM @ Flamingos Coffee House
URL:https://outtogether.lgbt/event/coffee-cake-and-chat-in-leeds-25/
LOCATION:Flamingos Leeds\, Central Arcade\, Leeds\, LS1 6DX\, United Kingdom
CATEGORIES:Leeds,Social
END:VEVENT
BEGIN:VEVENT
DTSTART;TZID=Europe/London:20260705T120000
DTEND;TZID=Europe/London:20260705T140000
DTSTAMP:20260423T063732
CREATED:20260324T164312Z
LAST-MODIFIED:20260324T164312Z
UID:3922-1783252800-1783260000@outtogether.lgbt
SUMMARY:Sunday lunch at the Adelphi
DESCRIPTION:Come join us for a delightful afternoon of good food and even better company at the Adelphi! Our community lunches are the perfect opportunity to connect with old friends\, make new ones\, and simply enjoy a relaxed Sunday in a warm and welcoming atmosphere. We’re all about fostering connections and building a vibrant\, inclusive space for everyone. \nImagine sharing delicious food\, engaging in lively conversation\, and soaking up the friendly vibes. Whether you’re a long-time member of our LGBTQ+ family or looking to meet new people\, you’ll find a welcoming smile and open arms here. We can’t wait to share a fantastic meal and some wonderful moments with you. See you there!
URL:https://outtogether.lgbt/event/sunday-lunch-at-the-adelphi/
LOCATION:The Adelphi\, 1-2 Hunslet Road\, Leeds\, LS10 1JQ\, United Kingdom
CATEGORIES:Leeds,Social
END:VEVENT
BEGIN:VEVENT
DTSTART;TZID=Europe/London:20260708T100000
DTEND;TZID=Europe/London:20260708T120000
DTSTAMP:20260423T063732
CREATED:20260126T001523Z
LAST-MODIFIED:20260126T001523Z
UID:3756-1783504800-1783512000@outtogether.lgbt
SUMMARY:Coffee\, Cake and Chat in Leeds
DESCRIPTION:Brew up some fun and join us for a delightful social gathering! We’re inviting all LGBTQ+ individuals and allies in Leeds to a relaxed morning of connection and conversation.  \nPicture this: the aroma of freshly brewed coffee\, a tempting spread of delicious cakes\, and a warm\, friendly atmosphere perfect for making new friends or catching up with old ones. \nThis is your chance to unwind\, share stories\, and simply enjoy good company in a welcoming and inclusive space. Whether you’re looking to expand your social circle\, find common ground\, or just enjoy a sweet treat and a chat\, everyone is welcome. Come as you are\, and let’s create some wonderful memories together! We can’t wait to see you there. \n10:30AM – 12:00PM @ Flamingos Coffee House
URL:https://outtogether.lgbt/event/coffee-cake-and-chat-in-leeds-33/
LOCATION:Flamingos Leeds\, Central Arcade\, Leeds\, LS1 6DX\, United Kingdom
CATEGORIES:Leeds,Social
END:VEVENT
BEGIN:VEVENT
DTSTART;TZID=Europe/London:20260715T100000
DTEND;TZID=Europe/London:20260715T120000
DTSTAMP:20260423T063732
CREATED:20260126T001523Z
LAST-MODIFIED:20260126T001523Z
UID:3757-1784109600-1784116800@outtogether.lgbt
SUMMARY:Coffee\, Cake and Chat in Leeds
DESCRIPTION:Brew up some fun and join us for a delightful social gathering! We’re inviting all LGBTQ+ individuals and allies in Leeds to a relaxed morning of connection and conversation.  \nPicture this: the aroma of freshly brewed coffee\, a tempting spread of delicious cakes\, and a warm\, friendly atmosphere perfect for making new friends or catching up with old ones. \nThis is your chance to unwind\, share stories\, and simply enjoy good company in a welcoming and inclusive space. Whether you’re looking to expand your social circle\, find common ground\, or just enjoy a sweet treat and a chat\, everyone is welcome. Come as you are\, and let’s create some wonderful memories together! We can’t wait to see you there. \n10:30AM – 12:00PM @ Flamingos Coffee House
URL:https://outtogether.lgbt/event/coffee-cake-and-chat-in-leeds-34/
LOCATION:Flamingos Leeds\, Central Arcade\, Leeds\, LS1 6DX\, United Kingdom
CATEGORIES:Leeds,Social
END:VEVENT
BEGIN:VEVENT
DTSTART;TZID=Europe/London:20260722T100000
DTEND;TZID=Europe/London:20260722T120000
DTSTAMP:20260423T063732
CREATED:20260126T001523Z
LAST-MODIFIED:20260126T001523Z
UID:3762-1784714400-1784721600@outtogether.lgbt
SUMMARY:Coffee\, Cake and Chat in Leeds
DESCRIPTION:Brew up some fun and join us for a delightful social gathering! We’re inviting all LGBTQ+ individuals and allies in Leeds to a relaxed morning of connection and conversation.  \nPicture this: the aroma of freshly brewed coffee\, a tempting spread of delicious cakes\, and a warm\, friendly atmosphere perfect for making new friends or catching up with old ones. \nThis is your chance to unwind\, share stories\, and simply enjoy good company in a welcoming and inclusive space. Whether you’re looking to expand your social circle\, find common ground\, or just enjoy a sweet treat and a chat\, everyone is welcome. Come as you are\, and let’s create some wonderful memories together! We can’t wait to see you there. \n10:30AM – 12:00PM @ Flamingos Coffee House
URL:https://outtogether.lgbt/event/coffee-cake-and-chat-in-leeds-39/
LOCATION:Flamingos Leeds\, Central Arcade\, Leeds\, LS1 6DX\, United Kingdom
CATEGORIES:Leeds,Social
END:VEVENT
BEGIN:VEVENT
DTSTART;TZID=Europe/London:20260729T100000
DTEND;TZID=Europe/London:20260729T120000
DTSTAMP:20260423T063732
CREATED:20260126T001528Z
LAST-MODIFIED:20260126T001528Z
UID:3775-1785319200-1785326400@outtogether.lgbt
SUMMARY:Coffee\, Cake and Chat in Leeds
DESCRIPTION:Brew up some fun and join us for a delightful social gathering! We’re inviting all LGBTQ+ individuals and allies in Leeds to a relaxed morning of connection and conversation.  \nPicture this: the aroma of freshly brewed coffee\, a tempting spread of delicious cakes\, and a warm\, friendly atmosphere perfect for making new friends or catching up with old ones. \nThis is your chance to unwind\, share stories\, and simply enjoy good company in a welcoming and inclusive space. Whether you’re looking to expand your social circle\, find common ground\, or just enjoy a sweet treat and a chat\, everyone is welcome. Come as you are\, and let’s create some wonderful memories together! We can’t wait to see you there. \n10:30AM – 12:00PM @ Flamingos Coffee House
URL:https://outtogether.lgbt/event/coffee-cake-and-chat-in-leeds-52/
LOCATION:Flamingos Leeds\, Central Arcade\, Leeds\, LS1 6DX\, United Kingdom
CATEGORIES:Leeds,Social
END:VEVENT
END:VCALENDAR