BEGIN:VCALENDAR
VERSION:2.0
PRODID:-//Out Together - ECPv6.15.20//NONSGML v1.0//EN
CALSCALE:GREGORIAN
METHOD:PUBLISH
X-WR-CALNAME:Out Together
X-ORIGINAL-URL:https://outtogether.lgbt
X-WR-CALDESC:Events for Out Together
REFRESH-INTERVAL;VALUE=DURATION:PT1H
X-Robots-Tag:noindex
X-PUBLISHED-TTL:PT1H
BEGIN:VTIMEZONE
TZID:Europe/London
BEGIN:DAYLIGHT
TZOFFSETFROM:+0000
TZOFFSETTO:+0100
TZNAME:BST
DTSTART:20250330T010000
END:DAYLIGHT
BEGIN:STANDARD
TZOFFSETFROM:+0100
TZOFFSETTO:+0000
TZNAME:GMT
DTSTART:20251026T010000
END:STANDARD
BEGIN:DAYLIGHT
TZOFFSETFROM:+0000
TZOFFSETTO:+0100
TZNAME:BST
DTSTART:20260329T010000
END:DAYLIGHT
BEGIN:STANDARD
TZOFFSETFROM:+0100
TZOFFSETTO:+0000
TZNAME:GMT
DTSTART:20261025T010000
END:STANDARD
BEGIN:DAYLIGHT
TZOFFSETFROM:+0000
TZOFFSETTO:+0100
TZNAME:BST
DTSTART:20270328T010000
END:DAYLIGHT
BEGIN:STANDARD
TZOFFSETFROM:+0100
TZOFFSETTO:+0000
TZNAME:GMT
DTSTART:20271031T010000
END:STANDARD
END:VTIMEZONE
BEGIN:VEVENT
DTSTART;TZID=Europe/London:20260714T103000
DTEND;TZID=Europe/London:20260714T120000
DTSTAMP:20260423T112356
CREATED:20260126T151935Z
LAST-MODIFIED:20260126T151935Z
UID:3805-1784025000-1784030400@outtogether.lgbt
SUMMARY:Coffee\, Cake and Chat in Huddersfield
DESCRIPTION:We’re meeting every second and forth Tuesday of the month at Arcade Coffee & Food in Huddersfield for coffee\, cake and chats. Please drop in and join us if you’re about to have good conversation and catch up with like minded friends.  \n10:30AM – 12:00PM
URL:https://outtogether.lgbt/event/coffee-cake-and-chat-in-huddersfield-5/
LOCATION:Arcade Coffee & Food\, Byram Arcade\, Huddersfield\, HD1 1ND\, United Kingdom
CATEGORIES:Huddersfield,Social
END:VEVENT
BEGIN:VEVENT
DTSTART;TZID=Europe/London:20260728T103000
DTEND;TZID=Europe/London:20260728T120000
DTSTAMP:20260423T112356
CREATED:20260126T151936Z
LAST-MODIFIED:20260126T151936Z
UID:3812-1785234600-1785240000@outtogether.lgbt
SUMMARY:Coffee\, Cake and Chat in Huddersfield
DESCRIPTION:We’re meeting every second and forth Tuesday of the month at Arcade Coffee & Food in Huddersfield for coffee\, cake and chats. Please drop in and join us if you’re about to have good conversation and catch up with like minded friends.  \n10:30AM – 12:00PM
URL:https://outtogether.lgbt/event/coffee-cake-and-chat-in-huddersfield-12/
LOCATION:Arcade Coffee & Food\, Byram Arcade\, Huddersfield\, HD1 1ND\, United Kingdom
CATEGORIES:Huddersfield,Social
END:VEVENT
BEGIN:VEVENT
DTSTART;TZID=Europe/London:20260811T103000
DTEND;TZID=Europe/London:20260811T120000
DTSTAMP:20260423T112356
CREATED:20260126T151937Z
LAST-MODIFIED:20260126T151937Z
UID:3819-1786444200-1786449600@outtogether.lgbt
SUMMARY:Coffee\, Cake and Chat in Huddersfield
DESCRIPTION:We’re meeting every second and forth Tuesday of the month at Arcade Coffee & Food in Huddersfield for coffee\, cake and chats. Please drop in and join us if you’re about to have good conversation and catch up with like minded friends.  \n10:30AM – 12:00PM
URL:https://outtogether.lgbt/event/coffee-cake-and-chat-in-huddersfield-18/
LOCATION:Arcade Coffee & Food\, Byram Arcade\, Huddersfield\, HD1 1ND\, United Kingdom
CATEGORIES:Huddersfield,Social
END:VEVENT
BEGIN:VEVENT
DTSTART;TZID=Europe/London:20260825T103000
DTEND;TZID=Europe/London:20260825T120000
DTSTAMP:20260423T112356
CREATED:20260126T151936Z
LAST-MODIFIED:20260126T151936Z
UID:3817-1787653800-1787659200@outtogether.lgbt
SUMMARY:Coffee\, Cake and Chat in Huddersfield
DESCRIPTION:We’re meeting every second and forth Tuesday of the month at Arcade Coffee & Food in Huddersfield for coffee\, cake and chats. Please drop in and join us if you’re about to have good conversation and catch up with like minded friends.  \n10:30AM – 12:00PM
URL:https://outtogether.lgbt/event/coffee-cake-and-chat-in-huddersfield-16/
LOCATION:Arcade Coffee & Food\, Byram Arcade\, Huddersfield\, HD1 1ND\, United Kingdom
CATEGORIES:Huddersfield,Social
END:VEVENT
BEGIN:VEVENT
DTSTART;TZID=Europe/London:20260908T103000
DTEND;TZID=Europe/London:20260908T120000
DTSTAMP:20260423T112356
CREATED:20260126T151936Z
LAST-MODIFIED:20260126T151936Z
UID:3813-1788863400-1788868800@outtogether.lgbt
SUMMARY:Coffee\, Cake and Chat in Huddersfield
DESCRIPTION:We’re meeting every second and forth Tuesday of the month at Arcade Coffee & Food in Huddersfield for coffee\, cake and chats. Please drop in and join us if you’re about to have good conversation and catch up with like minded friends.  \n10:30AM – 12:00PM
URL:https://outtogether.lgbt/event/coffee-cake-and-chat-in-huddersfield-13/
LOCATION:Arcade Coffee & Food\, Byram Arcade\, Huddersfield\, HD1 1ND\, United Kingdom
CATEGORIES:Huddersfield,Social
END:VEVENT
BEGIN:VEVENT
DTSTART;TZID=Europe/London:20260922T103000
DTEND;TZID=Europe/London:20260922T120000
DTSTAMP:20260423T112356
CREATED:20260126T151936Z
LAST-MODIFIED:20260126T151936Z
UID:3811-1790073000-1790078400@outtogether.lgbt
SUMMARY:Coffee\, Cake and Chat in Huddersfield
DESCRIPTION:We’re meeting every second and forth Tuesday of the month at Arcade Coffee & Food in Huddersfield for coffee\, cake and chats. Please drop in and join us if you’re about to have good conversation and catch up with like minded friends.  \n10:30AM – 12:00PM
URL:https://outtogether.lgbt/event/coffee-cake-and-chat-in-huddersfield-11/
LOCATION:Arcade Coffee & Food\, Byram Arcade\, Huddersfield\, HD1 1ND\, United Kingdom
CATEGORIES:Huddersfield,Social
END:VEVENT
BEGIN:VEVENT
DTSTART;TZID=Europe/London:20261013T103000
DTEND;TZID=Europe/London:20261013T120000
DTSTAMP:20260423T112356
CREATED:20260126T152313Z
LAST-MODIFIED:20260126T152313Z
UID:3824-1791887400-1791892800@outtogether.lgbt
SUMMARY:Coffee\, Cake and Chat in Huddersfield
DESCRIPTION:We’re meeting every second and forth Tuesday of the month at Arcade Coffee & Food in Huddersfield for coffee\, cake and chats. Please drop in and join us if you’re about to have good conversation and catch up with like minded friends.  \n10:30AM – 12:00PM
URL:https://outtogether.lgbt/event/coffee-cake-and-chat-in-huddersfield-23/
LOCATION:Arcade Coffee & Food\, Byram Arcade\, Huddersfield\, HD1 1ND\, United Kingdom
CATEGORIES:Huddersfield,Social
END:VEVENT
BEGIN:VEVENT
DTSTART;TZID=Europe/London:20261027T103000
DTEND;TZID=Europe/London:20261027T120000
DTSTAMP:20260423T112356
CREATED:20260126T151935Z
LAST-MODIFIED:20260126T151935Z
UID:3810-1793097000-1793102400@outtogether.lgbt
SUMMARY:Coffee\, Cake and Chat in Huddersfield
DESCRIPTION:We’re meeting every second and forth Tuesday of the month at Arcade Coffee & Food in Huddersfield for coffee\, cake and chats. Please drop in and join us if you’re about to have good conversation and catch up with like minded friends.  \n10:30AM – 12:00PM
URL:https://outtogether.lgbt/event/coffee-cake-and-chat-in-huddersfield-10/
LOCATION:Arcade Coffee & Food\, Byram Arcade\, Huddersfield\, HD1 1ND\, United Kingdom
CATEGORIES:Huddersfield,Social
END:VEVENT
BEGIN:VEVENT
DTSTART;TZID=Europe/London:20261110T103000
DTEND;TZID=Europe/London:20261110T120000
DTSTAMP:20260423T112356
CREATED:20260126T151936Z
LAST-MODIFIED:20260126T151936Z
UID:3815-1794306600-1794312000@outtogether.lgbt
SUMMARY:Coffee\, Cake and Chat in Huddersfield
DESCRIPTION:We’re meeting every second and forth Tuesday of the month at Arcade Coffee & Food in Huddersfield for coffee\, cake and chats. Please drop in and join us if you’re about to have good conversation and catch up with like minded friends.  \n10:30AM – 12:00PM
URL:https://outtogether.lgbt/event/coffee-cake-and-chat-in-huddersfield-15/
LOCATION:Arcade Coffee & Food\, Byram Arcade\, Huddersfield\, HD1 1ND\, United Kingdom
CATEGORIES:Huddersfield,Social
END:VEVENT
BEGIN:VEVENT
DTSTART;TZID=Europe/London:20261124T103000
DTEND;TZID=Europe/London:20261124T120000
DTSTAMP:20260423T112356
CREATED:20260126T151935Z
LAST-MODIFIED:20260126T151935Z
UID:3807-1795516200-1795521600@outtogether.lgbt
SUMMARY:Coffee\, Cake and Chat in Huddersfield
DESCRIPTION:We’re meeting every second and forth Tuesday of the month at Arcade Coffee & Food in Huddersfield for coffee\, cake and chats. Please drop in and join us if you’re about to have good conversation and catch up with like minded friends.  \n10:30AM – 12:00PM
URL:https://outtogether.lgbt/event/coffee-cake-and-chat-in-huddersfield-7/
LOCATION:Arcade Coffee & Food\, Byram Arcade\, Huddersfield\, HD1 1ND\, United Kingdom
CATEGORIES:Huddersfield,Social
END:VEVENT
BEGIN:VEVENT
DTSTART;TZID=Europe/London:20261208T103000
DTEND;TZID=Europe/London:20261208T120000
DTSTAMP:20260423T112356
CREATED:20260126T151937Z
LAST-MODIFIED:20260126T151937Z
UID:3822-1796725800-1796731200@outtogether.lgbt
SUMMARY:Coffee\, Cake and Chat in Huddersfield
DESCRIPTION:We’re meeting every second and forth Tuesday of the month at Arcade Coffee & Food in Huddersfield for coffee\, cake and chats. Please drop in and join us if you’re about to have good conversation and catch up with like minded friends.  \n10:30AM – 12:00PM
URL:https://outtogether.lgbt/event/coffee-cake-and-chat-in-huddersfield-21/
LOCATION:Arcade Coffee & Food\, Byram Arcade\, Huddersfield\, HD1 1ND\, United Kingdom
CATEGORIES:Huddersfield,Social
END:VEVENT
BEGIN:VEVENT
DTSTART;TZID=Europe/London:20261222T103000
DTEND;TZID=Europe/London:20261222T120000
DTSTAMP:20260423T112356
CREATED:20260126T151935Z
LAST-MODIFIED:20260126T151935Z
UID:3808-1797935400-1797940800@outtogether.lgbt
SUMMARY:Coffee\, Cake and Chat in Huddersfield
DESCRIPTION:We’re meeting every second and forth Tuesday of the month at Arcade Coffee & Food in Huddersfield for coffee\, cake and chats. Please drop in and join us if you’re about to have good conversation and catch up with like minded friends.  \n10:30AM – 12:00PM
URL:https://outtogether.lgbt/event/coffee-cake-and-chat-in-huddersfield-8/
LOCATION:Arcade Coffee & Food\, Byram Arcade\, Huddersfield\, HD1 1ND\, United Kingdom
CATEGORIES:Huddersfield,Social
END:VEVENT
END:VCALENDAR