BEGIN:VCALENDAR
VERSION:2.0
PRODID:-//Out Together - ECPv6.15.20//NONSGML v1.0//EN
CALSCALE:GREGORIAN
METHOD:PUBLISH
X-WR-CALNAME:Out Together
X-ORIGINAL-URL:https://outtogether.lgbt
X-WR-CALDESC:Events for Out Together
REFRESH-INTERVAL;VALUE=DURATION:PT1H
X-Robots-Tag:noindex
X-PUBLISHED-TTL:PT1H
BEGIN:VTIMEZONE
TZID:Europe/London
BEGIN:DAYLIGHT
TZOFFSETFROM:+0000
TZOFFSETTO:+0100
TZNAME:BST
DTSTART:20250330T010000
END:DAYLIGHT
BEGIN:STANDARD
TZOFFSETFROM:+0100
TZOFFSETTO:+0000
TZNAME:GMT
DTSTART:20251026T010000
END:STANDARD
BEGIN:DAYLIGHT
TZOFFSETFROM:+0000
TZOFFSETTO:+0100
TZNAME:BST
DTSTART:20260329T010000
END:DAYLIGHT
BEGIN:STANDARD
TZOFFSETFROM:+0100
TZOFFSETTO:+0000
TZNAME:GMT
DTSTART:20261025T010000
END:STANDARD
BEGIN:DAYLIGHT
TZOFFSETFROM:+0000
TZOFFSETTO:+0100
TZNAME:BST
DTSTART:20270328T010000
END:DAYLIGHT
BEGIN:STANDARD
TZOFFSETFROM:+0100
TZOFFSETTO:+0000
TZNAME:GMT
DTSTART:20271031T010000
END:STANDARD
END:VTIMEZONE
BEGIN:VEVENT
DTSTART;TZID=Europe/London:20260520T123000
DTEND;TZID=Europe/London:20260520T140000
DTSTAMP:20260423T123615
CREATED:20260127T163243Z
LAST-MODIFIED:20260414T104928Z
UID:3791-1779280200-1779285600@outtogether.lgbt
SUMMARY:Coffee\, Cake and Chat in Hebden Bridge
DESCRIPTION:We’re meeting every third Tuesday of the month at The Hermit in Hebden Bridge for coffee\, cake and chats. Please drop in and join us if you’re about to have good conversation and catch up with like minded friends. \n10:30AM – 12:00PM
URL:https://outtogether.lgbt/event/coffee-cake-and-chat-in-hebden-bridge-5/
LOCATION:The Hermit\, Hope Street\, Hebden Bridge\, HX7 8AG
CATEGORIES:Hebden Bridge,Social
END:VEVENT
BEGIN:VEVENT
DTSTART;TZID=Europe/London:20260609T110000
DTEND;TZID=Europe/London:20260609T130000
DTSTAMP:20260423T123615
CREATED:20260421T120448Z
LAST-MODIFIED:20260421T120448Z
UID:3950-1781002800-1781010000@outtogether.lgbt
SUMMARY:Digital Inclusion
DESCRIPTION:As part of our Digital Inclusion expansion\, we’re introducing a refreshed approach to our Digital Inclusion sessions. These will become more interactive and member-focused\, with opportunities for attendees to bring along their own digital challenges for group discussion and support. \nWe’ll also be introducing a new digital gaming element\, designed to build confidence and encourage engagement in a relaxed and enjoyable way. Alongside this\, we will continue to deliver the structured presentations that members already know and value\, ensuring a balance of learning and practical support.
URL:https://outtogether.lgbt/event/digital-inclusion-3/
LOCATION:The Town Hall\, Hebden Bridge\, St George's St\, Hebden Bridge HX7 7BY
CATEGORIES:Digital Inclusion,Hebden Bridge
END:VEVENT
BEGIN:VEVENT
DTSTART;TZID=Europe/London:20260617T123000
DTEND;TZID=Europe/London:20260617T140000
DTSTAMP:20260423T123615
CREATED:20260127T163246Z
LAST-MODIFIED:20260414T104919Z
UID:3793-1781699400-1781704800@outtogether.lgbt
SUMMARY:Coffee\, Cake and Chat in Hebden Bridge
DESCRIPTION:We’re meeting every third Tuesday of the month at The Hermit in Hebden Bridge for coffee\, cake and chats. Please drop in and join us if you’re about to have good conversation and catch up with like minded friends. \n10:30AM – 12:00PM
URL:https://outtogether.lgbt/event/coffee-cake-and-chat-in-hebden-bridge-6/
LOCATION:The Hermit\, Hope Street\, Hebden Bridge\, HX7 8AG
CATEGORIES:Hebden Bridge,Social
END:VEVENT
BEGIN:VEVENT
DTSTART;TZID=Europe/London:20260714T110000
DTEND;TZID=Europe/London:20260714T130000
DTSTAMP:20260423T123616
CREATED:20260421T120447Z
LAST-MODIFIED:20260421T120447Z
UID:3946-1784026800-1784034000@outtogether.lgbt
SUMMARY:Digital Inclusion
DESCRIPTION:As part of our Digital Inclusion expansion\, we’re introducing a refreshed approach to our Digital Inclusion sessions. These will become more interactive and member-focused\, with opportunities for attendees to bring along their own digital challenges for group discussion and support. \nWe’ll also be introducing a new digital gaming element\, designed to build confidence and encourage engagement in a relaxed and enjoyable way. Alongside this\, we will continue to deliver the structured presentations that members already know and value\, ensuring a balance of learning and practical support.
URL:https://outtogether.lgbt/event/digital-inclusion/
LOCATION:The Town Hall\, Hebden Bridge\, St George's St\, Hebden Bridge HX7 7BY
CATEGORIES:Digital Inclusion,Hebden Bridge
END:VEVENT
BEGIN:VEVENT
DTSTART;TZID=Europe/London:20260715T123000
DTEND;TZID=Europe/London:20260715T140000
DTSTAMP:20260423T123616
CREATED:20260127T163252Z
LAST-MODIFIED:20260414T104910Z
UID:3794-1784118600-1784124000@outtogether.lgbt
SUMMARY:Coffee\, Cake and Chat in Hebden Bridge
DESCRIPTION:We’re meeting every third Tuesday of the month at The Hermit in Hebden Bridge for coffee\, cake and chats. Please drop in and join us if you’re about to have good conversation and catch up with like minded friends. \n10:30AM – 12:00PM
URL:https://outtogether.lgbt/event/coffee-cake-and-chat-in-hebden-bridge-7/
LOCATION:The Hermit\, Hope Street\, Hebden Bridge\, HX7 8AG
CATEGORIES:Hebden Bridge,Social
END:VEVENT
BEGIN:VEVENT
DTSTART;TZID=Europe/London:20260811T110000
DTEND;TZID=Europe/London:20260811T130000
DTSTAMP:20260423T123616
CREATED:20260421T120448Z
LAST-MODIFIED:20260421T120448Z
UID:3953-1786446000-1786453200@outtogether.lgbt
SUMMARY:Digital Inclusion
DESCRIPTION:As part of our Digital Inclusion expansion\, we’re introducing a refreshed approach to our Digital Inclusion sessions. These will become more interactive and member-focused\, with opportunities for attendees to bring along their own digital challenges for group discussion and support. \nWe’ll also be introducing a new digital gaming element\, designed to build confidence and encourage engagement in a relaxed and enjoyable way. Alongside this\, we will continue to deliver the structured presentations that members already know and value\, ensuring a balance of learning and practical support.
URL:https://outtogether.lgbt/event/digital-inclusion-6/
LOCATION:The Town Hall\, Hebden Bridge\, St George's St\, Hebden Bridge HX7 7BY
CATEGORIES:Digital Inclusion,Hebden Bridge
END:VEVENT
BEGIN:VEVENT
DTSTART;TZID=Europe/London:20260819T123000
DTEND;TZID=Europe/London:20260819T140000
DTSTAMP:20260423T123616
CREATED:20260127T163255Z
LAST-MODIFIED:20260414T104902Z
UID:3795-1787142600-1787148000@outtogether.lgbt
SUMMARY:Coffee\, Cake and Chat in Hebden Bridge
DESCRIPTION:We’re meeting every third Tuesday of the month at The Hermit in Hebden Bridge for coffee\, cake and chats. Please drop in and join us if you’re about to have good conversation and catch up with like minded friends. \n10:30AM – 12:00PM
URL:https://outtogether.lgbt/event/coffee-cake-and-chat-in-hebden-bridge-8/
LOCATION:The Hermit\, Hope Street\, Hebden Bridge\, HX7 8AG
CATEGORIES:Hebden Bridge,Social
END:VEVENT
BEGIN:VEVENT
DTSTART;TZID=Europe/London:20260908T110000
DTEND;TZID=Europe/London:20260908T130000
DTSTAMP:20260423T123616
CREATED:20260421T120447Z
LAST-MODIFIED:20260421T120447Z
UID:3947-1788865200-1788872400@outtogether.lgbt
SUMMARY:Digital Inclusion
DESCRIPTION:As part of our Digital Inclusion expansion\, we’re introducing a refreshed approach to our Digital Inclusion sessions. These will become more interactive and member-focused\, with opportunities for attendees to bring along their own digital challenges for group discussion and support. \nWe’ll also be introducing a new digital gaming element\, designed to build confidence and encourage engagement in a relaxed and enjoyable way. Alongside this\, we will continue to deliver the structured presentations that members already know and value\, ensuring a balance of learning and practical support.
URL:https://outtogether.lgbt/event/digital-inclusion/
LOCATION:The Town Hall\, Hebden Bridge\, St George's St\, Hebden Bridge HX7 7BY
CATEGORIES:Digital Inclusion,Hebden Bridge
END:VEVENT
BEGIN:VEVENT
DTSTART;TZID=Europe/London:20260916T123000
DTEND;TZID=Europe/London:20260916T140000
DTSTAMP:20260423T123616
CREATED:20260127T163258Z
LAST-MODIFIED:20260414T104851Z
UID:3796-1789561800-1789567200@outtogether.lgbt
SUMMARY:Coffee\, Cake and Chat in Hebden Bridge
DESCRIPTION:We’re meeting every third Tuesday of the month at The Hermit in Hebden Bridge for coffee\, cake and chats. Please drop in and join us if you’re about to have good conversation and catch up with like minded friends. \n10:30AM – 12:00PM
URL:https://outtogether.lgbt/event/coffee-cake-and-chat-in-hebden-bridge-9/
LOCATION:The Hermit\, Hope Street\, Hebden Bridge\, HX7 8AG
CATEGORIES:Hebden Bridge,Social
END:VEVENT
BEGIN:VEVENT
DTSTART;TZID=Europe/London:20261013T110000
DTEND;TZID=Europe/London:20261013T130000
DTSTAMP:20260423T123616
CREATED:20260421T120448Z
LAST-MODIFIED:20260421T120448Z
UID:3952-1791889200-1791896400@outtogether.lgbt
SUMMARY:Digital Inclusion
DESCRIPTION:As part of our Digital Inclusion expansion\, we’re introducing a refreshed approach to our Digital Inclusion sessions. These will become more interactive and member-focused\, with opportunities for attendees to bring along their own digital challenges for group discussion and support. \nWe’ll also be introducing a new digital gaming element\, designed to build confidence and encourage engagement in a relaxed and enjoyable way. Alongside this\, we will continue to deliver the structured presentations that members already know and value\, ensuring a balance of learning and practical support.
URL:https://outtogether.lgbt/event/digital-inclusion-5/
LOCATION:The Town Hall\, Hebden Bridge\, St George's St\, Hebden Bridge HX7 7BY
CATEGORIES:Digital Inclusion,Hebden Bridge
END:VEVENT
BEGIN:VEVENT
DTSTART;TZID=Europe/London:20261014T123000
DTEND;TZID=Europe/London:20261014T140000
DTSTAMP:20260423T123616
CREATED:20260127T163302Z
LAST-MODIFIED:20260414T104843Z
UID:3798-1791981000-1791986400@outtogether.lgbt
SUMMARY:Coffee\, Cake and Chat in Hebden Bridge
DESCRIPTION:We’re meeting every third Wednesday of the month at The Hermit in Hebden Bridge for coffee\, cake and chats. Please drop in and join us if you’re about to have good conversation and catch up with like minded friends. \n12:30 – 2:00
URL:https://outtogether.lgbt/event/coffee-cake-and-chat-in-hebden-bridge-10/
LOCATION:The Hermit\, Hope Street\, Hebden Bridge\, HX7 8AG
CATEGORIES:Hebden Bridge,Social
END:VEVENT
BEGIN:VEVENT
DTSTART;TZID=Europe/London:20261110T110000
DTEND;TZID=Europe/London:20261110T130000
DTSTAMP:20260423T123616
CREATED:20260421T120448Z
LAST-MODIFIED:20260421T120448Z
UID:3951-1794308400-1794315600@outtogether.lgbt
SUMMARY:Digital Inclusion
DESCRIPTION:As part of our Digital Inclusion expansion\, we’re introducing a refreshed approach to our Digital Inclusion sessions. These will become more interactive and member-focused\, with opportunities for attendees to bring along their own digital challenges for group discussion and support. \nWe’ll also be introducing a new digital gaming element\, designed to build confidence and encourage engagement in a relaxed and enjoyable way. Alongside this\, we will continue to deliver the structured presentations that members already know and value\, ensuring a balance of learning and practical support.
URL:https://outtogether.lgbt/event/digital-inclusion-4/
LOCATION:The Town Hall\, Hebden Bridge\, St George's St\, Hebden Bridge HX7 7BY
CATEGORIES:Digital Inclusion,Hebden Bridge
END:VEVENT
BEGIN:VEVENT
DTSTART;TZID=Europe/London:20261118T123000
DTEND;TZID=Europe/London:20261118T140000
DTSTAMP:20260423T123616
CREATED:20260127T163307Z
LAST-MODIFIED:20260414T104835Z
UID:3800-1795005000-1795010400@outtogether.lgbt
SUMMARY:Coffee\, Cake and Chat in Hebden Bridge
DESCRIPTION:We’re meeting every third Wednesday of the month at The Hermit in Hebden Bridge for coffee\, cake and chats. Please drop in and join us if you’re about to have good conversation and catch up with like minded friends. \n12:30 – 2:00
URL:https://outtogether.lgbt/event/coffee-cake-and-chat-in-hebden-bridge-12/
LOCATION:The Hermit\, Hope Street\, Hebden Bridge\, HX7 8AG
CATEGORIES:Hebden Bridge,Social
END:VEVENT
BEGIN:VEVENT
DTSTART;TZID=Europe/London:20261208T110000
DTEND;TZID=Europe/London:20261208T130000
DTSTAMP:20260423T123616
CREATED:20260421T120447Z
LAST-MODIFIED:20260421T120447Z
UID:3948-1796727600-1796734800@outtogether.lgbt
SUMMARY:Digital Inclusion
DESCRIPTION:As part of our Digital Inclusion expansion\, we’re introducing a refreshed approach to our Digital Inclusion sessions. These will become more interactive and member-focused\, with opportunities for attendees to bring along their own digital challenges for group discussion and support. \nWe’ll also be introducing a new digital gaming element\, designed to build confidence and encourage engagement in a relaxed and enjoyable way. Alongside this\, we will continue to deliver the structured presentations that members already know and value\, ensuring a balance of learning and practical support.
URL:https://outtogether.lgbt/event/digital-inclusion-2/
LOCATION:The Town Hall\, Hebden Bridge\, St George's St\, Hebden Bridge HX7 7BY
CATEGORIES:Digital Inclusion,Hebden Bridge
END:VEVENT
BEGIN:VEVENT
DTSTART;TZID=Europe/London:20261216T123000
DTEND;TZID=Europe/London:20261216T140000
DTSTAMP:20260423T123616
CREATED:20260127T163317Z
LAST-MODIFIED:20260414T104817Z
UID:3799-1797424200-1797429600@outtogether.lgbt
SUMMARY:Coffee\, Cake and Chat in Hebden Bridge
DESCRIPTION:We’re meeting every third Wednesday of the month at The Hermit in Hebden Bridge for coffee\, cake and chats. Please drop in and join us if you’re about to have good conversation and catch up with like minded friends. \n12:30 – 2:00
URL:https://outtogether.lgbt/event/coffee-cake-and-chat-in-hebden-bridge-11/
LOCATION:The Hermit\, Hope Street\, Hebden Bridge\, HX7 8AG
CATEGORIES:Hebden Bridge,Social
END:VEVENT
END:VCALENDAR