BEGIN:VCALENDAR
VERSION:2.0
PRODID:-//Out Together - ECPv6.15.20//NONSGML v1.0//EN
CALSCALE:GREGORIAN
METHOD:PUBLISH
X-ORIGINAL-URL:https://outtogether.lgbt
X-WR-CALDESC:Events for Out Together
REFRESH-INTERVAL;VALUE=DURATION:PT1H
X-Robots-Tag:noindex
X-PUBLISHED-TTL:PT1H
BEGIN:VTIMEZONE
TZID:Europe/London
BEGIN:DAYLIGHT
TZOFFSETFROM:+0000
TZOFFSETTO:+0100
TZNAME:BST
DTSTART:20250330T010000
END:DAYLIGHT
BEGIN:STANDARD
TZOFFSETFROM:+0100
TZOFFSETTO:+0000
TZNAME:GMT
DTSTART:20251026T010000
END:STANDARD
BEGIN:DAYLIGHT
TZOFFSETFROM:+0000
TZOFFSETTO:+0100
TZNAME:BST
DTSTART:20260329T010000
END:DAYLIGHT
BEGIN:STANDARD
TZOFFSETFROM:+0100
TZOFFSETTO:+0000
TZNAME:GMT
DTSTART:20261025T010000
END:STANDARD
BEGIN:DAYLIGHT
TZOFFSETFROM:+0000
TZOFFSETTO:+0100
TZNAME:BST
DTSTART:20270328T010000
END:DAYLIGHT
BEGIN:STANDARD
TZOFFSETFROM:+0100
TZOFFSETTO:+0000
TZNAME:GMT
DTSTART:20271031T010000
END:STANDARD
END:VTIMEZONE
BEGIN:VEVENT
DTSTART;TZID=Europe/London:20260407T103000
DTEND;TZID=Europe/London:20260407T120000
DTSTAMP:20260423T033128
CREATED:20260126T152628Z
LAST-MODIFIED:20260126T152628Z
UID:3830-1775557800-1775563200@outtogether.lgbt
SUMMARY:Coffee\, Cake and Chat in Bingley
DESCRIPTION:We’re meeting the first Tuesday of the month at The Craft House in Bingley for coffee\, cake and chats. Please drop in and join us if you’re about to have good conversation and catch up with like minded friends.  \n10:30AM – 12:00PM
URL:https://outtogether.lgbt/event/coffee-cake-and-chat-in-bingley-6/
LOCATION:The Craft House\, Main Street\, Bingley\, BD16 2HT
CATEGORIES:Bingley,Social
END:VEVENT
END:VCALENDAR