BEGIN:VCALENDAR
VERSION:2.0
PRODID:-//Out Together - ECPv6.15.20//NONSGML v1.0//EN
CALSCALE:GREGORIAN
METHOD:PUBLISH
X-ORIGINAL-URL:https://outtogether.lgbt
X-WR-CALDESC:Events for Out Together
REFRESH-INTERVAL;VALUE=DURATION:PT1H
X-Robots-Tag:noindex
X-PUBLISHED-TTL:PT1H
BEGIN:VTIMEZONE
TZID:Europe/London
BEGIN:DAYLIGHT
TZOFFSETFROM:+0000
TZOFFSETTO:+0100
TZNAME:BST
DTSTART:20250330T010000
END:DAYLIGHT
BEGIN:STANDARD
TZOFFSETFROM:+0100
TZOFFSETTO:+0000
TZNAME:GMT
DTSTART:20251026T010000
END:STANDARD
BEGIN:DAYLIGHT
TZOFFSETFROM:+0000
TZOFFSETTO:+0100
TZNAME:BST
DTSTART:20260329T010000
END:DAYLIGHT
BEGIN:STANDARD
TZOFFSETFROM:+0100
TZOFFSETTO:+0000
TZNAME:GMT
DTSTART:20261025T010000
END:STANDARD
BEGIN:DAYLIGHT
TZOFFSETFROM:+0000
TZOFFSETTO:+0100
TZNAME:BST
DTSTART:20270328T010000
END:DAYLIGHT
BEGIN:STANDARD
TZOFFSETFROM:+0100
TZOFFSETTO:+0000
TZNAME:GMT
DTSTART:20271031T010000
END:STANDARD
END:VTIMEZONE
BEGIN:VEVENT
DTSTART;TZID=Europe/London:20260605T100000
DTEND;TZID=Europe/London:20260605T113000
DTSTAMP:20260423T063732
CREATED:20260219T112757Z
LAST-MODIFIED:20260219T112757Z
UID:3903-1780653600-1780659000@outtogether.lgbt
SUMMARY:Coffee\, Cake and Chat in Todmorden
DESCRIPTION:Come join us for a delightful and relaxed get-together in the heart of Todmorden! This is a fantastic opportunity to connect with fellow LGBTQ+ community members in a warm and friendly atmosphere.
URL:https://outtogether.lgbt/event/coffee-cake-and-chat-in-todmorden-8/
LOCATION:Todmorden Health Centre\, The Rear G/F Café\, Todmorden\, OL14 5RN
CATEGORIES:Social
END:VEVENT
END:VCALENDAR