BEGIN:VCALENDAR
VERSION:2.0
PRODID:-//Out Together - ECPv6.15.20//NONSGML v1.0//EN
CALSCALE:GREGORIAN
METHOD:PUBLISH
X-ORIGINAL-URL:https://outtogether.lgbt
X-WR-CALDESC:Events for Out Together
REFRESH-INTERVAL;VALUE=DURATION:PT1H
X-Robots-Tag:noindex
X-PUBLISHED-TTL:PT1H
BEGIN:VTIMEZONE
TZID:Europe/London
BEGIN:DAYLIGHT
TZOFFSETFROM:+0000
TZOFFSETTO:+0100
TZNAME:BST
DTSTART:20240331T010000
END:DAYLIGHT
BEGIN:STANDARD
TZOFFSETFROM:+0100
TZOFFSETTO:+0000
TZNAME:GMT
DTSTART:20241027T010000
END:STANDARD
BEGIN:DAYLIGHT
TZOFFSETFROM:+0000
TZOFFSETTO:+0100
TZNAME:BST
DTSTART:20250330T010000
END:DAYLIGHT
BEGIN:STANDARD
TZOFFSETFROM:+0100
TZOFFSETTO:+0000
TZNAME:GMT
DTSTART:20251026T010000
END:STANDARD
BEGIN:DAYLIGHT
TZOFFSETFROM:+0000
TZOFFSETTO:+0100
TZNAME:BST
DTSTART:20260329T010000
END:DAYLIGHT
BEGIN:STANDARD
TZOFFSETFROM:+0100
TZOFFSETTO:+0000
TZNAME:GMT
DTSTART:20261025T010000
END:STANDARD
END:VTIMEZONE
BEGIN:VEVENT
DTSTART;TZID=Europe/London:20250301T193000
DTEND;TZID=Europe/London:20250301T223000
DTSTAMP:20260424T032714
CREATED:20250120T152345Z
LAST-MODIFIED:20250120T152345Z
UID:2329-1740857400-1740868200@outtogether.lgbt
SUMMARY:Call me Dusty - Gala Performance
DESCRIPTION:City Varieties – Leeds \nWe are thrilled to present “Call Me Dusty”—a heartfelt play with music that celebrates the life\, magic\, and legacy of the legendary Dusty Springfield. \nThe finest white soul singer of her era – for millions Dusty was the definitive pop diva. \nStep into the soulful world of one of the most iconic singers of the 20th century. “Call Me Dusty” weaves together electrifying musical performances of Dusty’s greatest hits with a poignant narrative that explores her tortured life and journey as a trailblazer in music\, and an LGBTQ+ icon. \nTickets £24 and book here https://leedsheritagetheatres.com/whats-on/call-me-dusty-2025
URL:https://outtogether.lgbt/event/call-me-dusty-gala-performance/
LOCATION:City Varieties Music Hall\, Swan Street\, Leeds\, LS1 6LW\, United Kingdom
ATTACH;FMTTYPE=image/jpeg:https://outtogether.lgbt/wp-content/uploads/2025/01/Flyer-city-varieties2.jpg
END:VEVENT
END:VCALENDAR